Workbook

Sheet Dashboard
B1: Dashboard | D1: MONEY | I1: GUESTS | M1: PLANNING | R1: THE DAY & AFTER | V1: TOOLS | X1: Joli Plan
D2: Budget | E2: 🔒 Payments | I2: Guests | K2: 🔒 Tables | M2: 🔒 Checklist | O2: 🔒 Appointments | R2: 🔒 Ceremony | S2: 🔒 Music | V2: ? Help
D3: 🔒 Suppliers | E3: 🔒 Shopping | I3: 🔒 Seating plan | K3: 🔒 Catering | M3: 🔒 Giving notice | O3: 🔒 Contacts | R3: 🔒 On the day | S3: 🔒 Thank yous | V3: 🔒 Notes
B4: =IF($AC$8="","YOUR WHOLE WEDDING, IN ONE PLACE",UPPER(CHOOSE(WEEKDAY($AC$8),"Sunday","Monday","Tuesday","Wednesday","Thursday","Friday","Saturday")&" "&DAY($AC$8)&" "&CHOOSE(MONTH($AC$8),"January","February","March","April","May","June","July","August","September","October","November","December")&" "&YEAR($AC$8))) -> YOUR WHOLE WEDDING, IN ONE PLACE | AD4: =IF($AC$8="","CHOOSE YOUR DATE BELOW",IF($AC$8<=TODAY(),"","IN "&IF(DATEDIF(TODAY(),$AC$8,"m")=0,"",DATEDIF(TODAY(),$AC$8,"m")&" MONTHS")&IF(AND(DATEDIF(TODAY(),$AC$8,"m")>0,DATEDIF(TODAY(),$AC$8,"md")>0)," AND ","")&IF(DATEDIF(TODAY(),$AC$8,"md")=0,"",DATEDIF(TODAY(),$AC$8,"md")&IF(DATEDIF(TODAY(),$AC$8,"md")=1," DAY"," DAYS")))) -> CHOOSE YOUR DATE BELOW
B5: =IF(OR(INDEX($D:$D,6)="",INDEX($D:$D,7)=""),"Our wedding","The wedding of "&""&TRIM(INDEX($D:$D,6))&" & "&TRIM(INDEX($D:$D,7))) -> Our wedding | AD5: =IF($AC$8="","? days",IF($AC$8-TODAY()>0,($AC$8-TODAY())&IF($AC$8-TODAY()=1," day"," days"),IF($AC$8=TODAY(),"It's the big day!","Congratulations!"))) -> ? days
B6: First name 1 | N6: =IF(AND(AND(INDEX($D:$D,6)<>"",INDEX($D:$D,7)<>""),$AC$8<>"",AND(N(INDEX($D:$D,9))>0,N(INDEX($D:$D,10))>0),SUM(Guests!$AI$7:$AI$506)>0),"This week: just 3 things","Where to start?") -> Where to start? | AD6: Keep an eye on
B7: First name 2 | N7: =IF(AND(AND(INDEX($D:$D,6)<>"",INDEX($D:$D,7)<>""),$AC$8<>"",AND(N(INDEX($D:$D,9))>0,N(INDEX($D:$D,10))>0),SUM(Guests!$AI$7:$AI$506)>0),IF(COUNT($AB$231:$AB$239)=0,"Nothing urgent for now: enjoy it!","• "&IF(COUNT($AB$231:$AB$239)<1,"",INDEX($AA$231:$AA$239,MATCH(SMALL($AB$231:$AB$239,1),$AB$231:$AB$239,0)))),IF(AND(INDEX($D:$D,6)<>"",INDEX($D:$D,7)<>""),"✓ Your first names","1 Your first names (on the left): they appear on every tab")) -> 1 Your first names (on the left): they appear on every tab | AD7: =IF(COUNTIF($AA$161:$AA$188,"?*")=0,"Nothing to flag for now: everything is in order.",IFERROR("• "&INDEX($AA$161:$AA$188,MATCH(1,$AB$161:$AB$188,0)),"")) -> Nothing to flag for now: everything is in order.
B8: Wedding date | N8: =IF(AND(AND(INDEX($D:$D,6)<>"",INDEX($D:$D,7)<>""),$AC$8<>"",AND(N(INDEX($D:$D,9))>0,N(INDEX($D:$D,10))>0),SUM(Guests!$AI$7:$AI$506)>0),IF(COUNT($AB$231:$AB$239)<2,"","• "&IF(COUNT($AB$231:$AB$239)<2,"",INDEX($AA$231:$AA$239,MATCH(SMALL($AB$231:$AB$239,2),$AB$231:$AB$239,0)))),IF($AC$8<>"","✓ "&CHOOSE(WEEKDAY($AC$8),"Sunday","Monday","Tuesday","Wednesday","Thursday","Friday","Saturday")&" "&DAY($AC$8)&" "&CHOOSE(MONTH($AC$8),"January","February","March","April","May","June","July","August","September","October","November","December")&" "&YEAR($AC$8),IF(AND(INDEX($D:$D,8)="",INDEX($F:$F,8)="",INDEX($J:$J,8)=""),"2 Your date (3 drop-downs): every step is dated from it",IF(OR(INDEX($D:$D,8)="",INDEX($F:$F,8)="",INDEX($J:$J,8)=""),"2 Date incomplete: day, month and year","2 This date doesn't exist: check the day")))) -> 2 Your date (3 drop-downs): every step is dated from it | AC8: =IF(OR(INDEX($D:$D,8)="",INDEX($F:$F,8)="",INDEX($J:$J,8)=""),"",IFERROR(IF(DAY(DATE(VALUE(INDEX($J:$J,8)&""),MATCH(INDEX($F:$F,8),Lists!$Y$1:$Y$12,0),VALUE(INDEX($D:$D,8)&"")))=VALUE(INDEX($D:$D,8)&""),DATE(VALUE(INDEX($J:$J,8)&""),MATCH(INDEX($F:$F,8),Lists!$Y$1:$Y$12,0),VALUE(INDEX($D:$D,8)&"")),""),"")) | AD8: =IFERROR("• "&INDEX($AA$161:$AA$188,MATCH(2,$AB$161:$AB$188,0)),"")
B9: Total budget | N9: =IF(AND(AND(INDEX($D:$D,6)<>"",INDEX($D:$D,7)<>""),$AC$8<>"",AND(N(INDEX($D:$D,9))>0,N(INDEX($D:$D,10))>0),SUM(Guests!$AI$7:$AI$506)>0),IF(COUNT($AB$231:$AB$239)<3,"","• "&IF(COUNT($AB$231:$AB$239)<3,"",INDEX($AA$231:$AA$239,MATCH(SMALL($AB$231:$AB$239,3),$AB$231:$AB$239,0)))),IF(AND(N(INDEX($D:$D,9))>0,N(INDEX($D:$D,10))>0),"✓ Budget and number of guests","3 Budget and guest numbers: used for your suggested budget")) -> 3 Budget and guest numbers: used for your suggested budget | AD9: =IFERROR("• "&INDEX($AA$161:$AA$188,MATCH(3,$AB$161:$AB$188,0)),"")
B10: Guests (approx.) | N10: =IF(AND(AND(INDEX($D:$D,6)<>"",INDEX($D:$D,7)<>""),$AC$8<>"",AND(N(INDEX($D:$D,9))>0,N(INDEX($D:$D,10))>0),SUM(Guests!$AI$7:$AI$506)>0),IF(COUNT($AB$231:$AB$239)=0,"","The rest can wait: have a good week!"),IF(SUM(Guests!$AI$7:$AI$506)>0,"✓ Guest list started","4 Add your first guest ›")) -> 4 Add your first guest › | AD10: =IF(COUNTIF($AA$161:$AA$188,"?*")>4,"• … and "&(COUNTIF($AA$161:$AA$188,"?*")-4+1)&" more: see the relevant tabs.",IFERROR("• "&INDEX($AA$161:$AA$188,MATCH(4,$AB$161:$AB$188,0)),""))
B12: BUDGET PAID | G12: GUESTS CONFIRMED | N12: PLANNING | T12: NEXT PAYMENT | AD12: DAYS TO GO | AG12: GIVING NOTICE
B13: =IF((SUM(Budget!$R$7:$R$42)+SUMPRODUCT((Budget!$R$7:$R$42="")*(Budget!$K$7:$K$42<>"")*Budget!$K$7:$K$42)+SUMPRODUCT((Budget!$R$7:$R$42="")*(Budget!$K$7:$K$42="")*Budget!$J$7:$J$42))=0,"–",IF((SUM(Budget!$R$7:$R$42)+SUMPRODUCT((Budget!$R$7:$R$42="")*(Budget!$K$7:$K$42<>"")*Budget!$K$7:$K$42)+SUMPRODUCT((Budget!$R$7:$R$42="")*(Budget!$K$7:$K$42="")*Budget!$J$7:$J$42))=0,0,SUM(Budget!$T$7:$T$42)/(SUM(Budget!$R$7:$R$42)+SUMPRODUCT((Budget!$R$7:$R$42="")*(Budget!$K$7:$K$42<>"")*Budget!$K$7:$K$42)+SUMPRODUCT((Budget!$R$7:$R$42="")*(Budget!$K$7:$K$42="")*Budget!$J$7:$J$42)))) -> – | G13: =IF(SUM(Guests!$AI$7:$AI$506)=0,"–",SUMIFS(Guests!$AI$7:$AI$506,Guests!$U$7:$U$506,"Attending")&" / "&SUM(Guests!$AI$7:$AI$506)) -> – | N13: 🔒 | T13: 🔒 | AD13: =IF($AC$8="","–",IF($AC$8="","–",MAX(0,$AC$8-TODAY()))) -> – | AG13: 🔒
B15: =IF((SUM(Budget!$R$7:$R$42)+SUMPRODUCT((Budget!$R$7:$R$42="")*(Budget!$K$7:$K$42<>"")*Budget!$K$7:$K$42)+SUMPRODUCT((Budget!$R$7:$R$42="")*(Budget!$K$7:$K$42="")*Budget!$J$7:$J$42))=0,"Enter your total budget","£"&FIXED(SUM(Budget!$T$7:$T$42),0)&" paid of "&"£"&FIXED((SUM(Budget!$R$7:$R$42)+SUMPRODUCT((Budget!$R$7:$R$42="")*(Budget!$K$7:$K$42<>"")*Budget!$K$7:$K$42)+SUMPRODUCT((Budget!$R$7:$R$42="")*(Budget!$K$7:$K$42="")*Budget!$J$7:$J$42)),0)&"") -> Enter your total budget | G15: =IF(SUM(Guests!$AI$7:$AI$506)=0,"Add your guests › Guests",(SUM(Guests!$AI$7:$AI$506)-SUMIFS(Guests!$AI$7:$AI$506,Guests!$U$7:$U$506,"Attending")-SUMIFS(Guests!$AI$7:$AI$506,Guests!$U$7:$U$506,"Declined"))&" awaiting reply") -> Add your guests › Guests | AD15: =IF($AC$8="","Choose your date below","until the big day") -> Choose your date below
B16: =REPT("● ",ROUND(MIN(1,MAX(0,IF((SUM(Budget!$R$7:$R$42)+SUMPRODUCT((Budget!$R$7:$R$42="")*(Budget!$K$7:$K$42<>"")*Budget!$K$7:$K$42)+SUMPRODUCT((Budget!$R$7:$R$42="")*(Budget!$K$7:$K$42="")*Budget!$J$7:$J$42))=0,0,SUM(Budget!$T$7:$T$42)/(SUM(Budget!$R$7:$R$42)+SUMPRODUCT((Budget!$R$7:$R$42="")*(Budget!$K$7:$K$42<>"")*Budget!$K$7:$K$42)+SUMPRODUCT((Budget!$R$7:$R$42="")*(Budget!$K$7:$K$42="")*Budget!$J$7:$J$42)))))*10,0))&REPT("○ ",10-ROUND(MIN(1,MAX(0,IF((SUM(Budget!$R$7:$R$42)+SUMPRODUCT((Budget!$R$7:$R$42="")*(Budget!$K$7:$K$42<>"")*Budget!$K$7:$K$42)+SUMPRODUCT((Budget!$R$7:$R$42="")*(Budget!$K$7:$K$42="")*Budget!$J$7:$J$42))=0,0,SUM(Budget!$T$7:$T$42)/(SUM(Budget!$R$7:$R$42)+SUMPRODUCT((Budget!$R$7:$R$42="")*(Budget!$K$7:$K$42<>"")*Budget!$K$7:$K$42)+SUMPRODUCT((Budget!$R$7:$R$42="")*(Budget!$K$7:$K$42="")*Budget!$J$7:$J$42)))))*10,0)) -> ○ ○ ○ ○ ○ ○ ○ ○ ○ ○ | G16: =REPT("● ",ROUND(MIN(1,MAX(0,IF(SUM(Guests!$AI$7:$AI$506)=0,0,SUMIFS(Guests!$AI$7:$AI$506,Guests!$U$7:$U$506,"Attending")/SUM(Guests!$AI$7:$AI$506))))*10,0))&REPT("○ ",10-ROUND(MIN(1,MAX(0,IF(SUM(Guests!$AI$7:$AI$506)=0,0,SUMIFS(Guests!$AI$7:$AI$506,Guests!$U$7:$U$506,"Attending")/SUM(Guests!$AI$7:$AI$506))))*10,0)) -> ○ ○ ○ ○ ○ ○ ○ ○ ○ ○
B18: 🔒 Next steps | J18: Unlock › | N18: 🔒 Next payments | W18: Unlock › | AD18: 🔒 Next appointments | AH18: Unlock ›
B19: 🔒 In the full version | N19: 🔒 In the full version | AD19: 🔒 In the full version
B25: Budget | J25: Open › | N25: Guests | W25: Open › | AD25: 🔒 Notice & wedding party | AH25: Unlock ›
B26: Total planned (or suggested) | J26: =SUM(Budget!$K$7:$K$42)+SUMPRODUCT((Budget!$K$7:$K$42="")*Budget!$J$7:$J$42) -> 0 | N26: Guests (people) | W26: =SUM(Guests!$AI$7:$AI$506) -> 0 | AD26: 🔒 In the full version
B27: Committed (signed quotes + shopping) | J27: =SUM(Budget!$R$7:$R$42) -> 0 | N27: Invitations: day / evening | W27: =SUMIFS(Guests!$AN$7:$AN$506,Guests!$N$7:$N$506,"<>Evening only")&" / "&SUMIFS(Guests!$AN$7:$AN$506,Guests!$N$7:$N$506,"Evening only") -> 0 / 0
B28: Paid so far | J28: =SUM(Budget!$T$7:$T$42) -> 0 | N28: Confirmed attending | W28: =SUMIFS(Guests!$AI$7:$AI$506,Guests!$U$7:$U$506,"Attending") -> 0
B29: Left to pay | J29: =SUM(Budget!$W$7:$W$42) -> 0 | N29: Awaiting reply | W29: =(SUM(Guests!$AI$7:$AI$506)-SUMIFS(Guests!$AI$7:$AI$506,Guests!$U$7:$U$506,"Attending")-SUMIFS(Guests!$AI$7:$AI$506,Guests!$U$7:$U$506,"Declined")) -> 0
B30: Estimated final cost | J30: =(SUM(Budget!$R$7:$R$42)+SUMPRODUCT((Budget!$R$7:$R$42="")*(Budget!$K$7:$K$42<>"")*Budget!$K$7:$K$42)+SUMPRODUCT((Budget!$R$7:$R$42="")*(Budget!$K$7:$K$42="")*Budget!$J$7:$J$42)) -> 0 | N30: Wedding breakfast: adults / children | W30: =SUMIFS(Guests!$AQ$7:$AQ$506,Guests!$U$7:$U$506,"Attending",Guests!$N$7:$N$506,"<>Evening only")&" / "&COUNTIFS(Guests!$I$7:$I$506,"Yes",Guests!$AI$7:$AI$506,1,Guests!$U$7:$U$506,"Attending",Guests!$N$7:$N$506,"<>Evening only") -> 0 / 0
B31: Margin vs total budget | J31: =IF(INDEX(Dashboard!$D:$D,9)="","",INDEX(Dashboard!$D:$D,9)-(SUM(Budget!$R$7:$R$42)+SUMPRODUCT((Budget!$R$7:$R$42="")*(Budget!$K$7:$K$42<>"")*Budget!$K$7:$K$42)+SUMPRODUCT((Budget!$R$7:$R$42="")*(Budget!$K$7:$K$42="")*Budget!$J$7:$J$42))) | N31: Evening only (confirmed) | W31: =SUMIFS(Guests!$AI$7:$AI$506,Guests!$U$7:$U$506,"Attending",Guests!$N$7:$N$506,"Evening only") -> 0 | AA31: Paid so far | AB31: =SUM(Budget!$T$7:$T$42) -> 0 | AD31: 🔒 Suppliers | AH31: Unlock ›
B32: % of final cost paid | J32: =IF((SUM(Budget!$R$7:$R$42)+SUMPRODUCT((Budget!$R$7:$R$42="")*(Budget!$K$7:$K$42<>"")*Budget!$K$7:$K$42)+SUMPRODUCT((Budget!$R$7:$R$42="")*(Budget!$K$7:$K$42="")*Budget!$J$7:$J$42))=0,0,SUM(Budget!$T$7:$T$42)/(SUM(Budget!$R$7:$R$42)+SUMPRODUCT((Budget!$R$7:$R$42="")*(Budget!$K$7:$K$42<>"")*Budget!$K$7:$K$42)+SUMPRODUCT((Budget!$R$7:$R$42="")*(Budget!$K$7:$K$42="")*Budget!$J$7:$J$42))) -> 0 | N32: Day-after brunch (confirmed) | W32: =SUMIFS(Guests!$AI$7:$AI$506,Guests!$U$7:$U$506,"Attending",Guests!$V$7:$V$506,"Yes") -> 0 | AA32: Left to pay | AB32: =SUM(Budget!$W$7:$W$42) -> 0 | AD32: 🔒 In the full version
B33: Money set aside (Budget tab) | J33: =Budget!$AB$18 -> 0 | N33: Dietary needs and allergies | W33: =COUNTIFS(Guests!$X$7:$X$506,"?*",Guests!$U$7:$U$506,"<>Declined",Guests!$AI$7:$AI$506,1) -> 0 | AA33: Not committed yet | AB33: =MAX(0,(SUM(Budget!$R$7:$R$42)+SUMPRODUCT((Budget!$R$7:$R$42="")*(Budget!$K$7:$K$42<>"")*Budget!$K$7:$K$42)+SUMPRODUCT((Budget!$R$7:$R$42="")*(Budget!$K$7:$K$42="")*Budget!$J$7:$J$42))-SUM(Budget!$R$7:$R$42)) -> 0
B34: =IF((Budget!$AB$19-Budget!$AB$18)>0,"Still to fund","Funding margin") -> Funding margin | J34: =ABS((Budget!$AB$19-Budget!$AB$18)) -> 0 | N34: Invitations still to send | W34: =(SUM(Guests!$AN$7:$AN$506)-SUM(Guests!$AO$7:$AO$506)) -> 0
N35: Guests without accommodation | W35: =COUNTIFS(Guests!$AA$7:$AA$506,"To find",Guests!$AI$7:$AI$506,1) -> 0
B36: 🔒 Thank yous | J36: Unlock › | N36: Coach seats (confirmed) | W36: =SUMIFS(Guests!$AI$7:$AI$506,Guests!$U$7:$U$506,"Attending",Guests!$AC$7:$AC$506,"Yes") -> 0
B37: 🔒 In the full version | AD37: 🔒 On the day | AH37: Unlock ›
AD38: 🔒 In the full version
AA41: Attending | AB41: =SUMIFS(Guests!$AI$7:$AI$506,Guests!$U$7:$U$506,"Attending") -> 0
AA42: Awaiting reply | AB42: =(SUM(Guests!$AI$7:$AI$506)-SUMIFS(Guests!$AI$7:$AI$506,Guests!$U$7:$U$506,"Attending")-SUMIFS(Guests!$AI$7:$AI$506,Guests!$U$7:$U$506,"Declined")) -> 0
AA43: Declined | AB43: =SUMIFS(Guests!$AI$7:$AI$506,Guests!$U$7:$U$506,"Declined") -> 0
B44: Where your budget stands | J44: Open › | N44: Guest replies | W44: Open › | AD44: 🔒 Shopping | AH44: Unlock ›
AD45: 🔒 In the full version
B62: Help: how it works
B63: ✎ to fill in | D63: White cells are yours to fill in. Type in it, or tap it and choose from the list ▾. Everything else fills itself in, and a calculation can't be deleted by mistake.
B64: £1,250 | D64: Text on the coloured background is worked out from what you've typed elsewhere.
B65: Dashboard | D65: The menu at the top of every tab takes you everywhere: tap a button, it's always in the same place. Each area has its own colour: money, guests, planning, the day & after, tools.
B66: ⇆ | D66: On a phone, the tabs are also at the bottom of the screen, each in the colour of its area: swipe the bar to see them all.
...

Sheet Budget
B1: Dashboard | D1: MONEY | H1: GUESTS | L1: PLANNING | Q1: THE DAY & AFTER | V1: TOOLS | X1: =IF(AND(Dashboard!$D$6<>"",Dashboard!$D$7<>""),Dashboard!$D$6&" & "&Dashboard!$D$7,"Your wedding")&IF(Dashboard!$AC$8="","",IF(Dashboard!$AC$8>TODAY()," · J-"&(Dashboard!$AC$8-TODAY()),"")) -> Your wedding
D2: Budget | F2: 🔒 Payments | H2: Guests | I2: 🔒 Tables | L2: 🔒 Checklist | N2: 🔒 Appointments | Q2: 🔒 Ceremony | S2: 🔒 Music | V2: ? Help
D3: 🔒 Suppliers | F3: 🔒 Shopping | H3: 🔒 Seating plan | I3: 🔒 Catering | L3: 🔒 Giving notice | N3: 🔒 Contacts | Q3: 🔒 On the day | S3: 🔒 Thank yous | V3: 🔒 Notes
B4: Budget | Y4: ↶ Made a mistake? Undo with Ctrl+Z, or the ↶ arrow at the top of the screen
B5: ✎ Type in the white cells. Enter your signed quotes (choose "+ VAT" if VAT is extra): the suggested budget, shopping and payments are worked out for you. Full guide and tip › Help
B6: Item | E6: Typical UK prices | J6: Suggested budget | K6: Your planned budget | M6: Signed quote | N6: VAT ▾ | O6: 🔒 Shopping | R6: Actual cost | T6: 🔒 Paid so far | W6: Left to pay | X6: Difference vs planned | Y6: Notes | AA6: Your budget at a glance
B7: Venue hire | E7: average £6,040 (venue only); marquee or tipi £4,633 | J7: =IF(OR(INDEX($B:$B,7)="",AP7="",N(INDEX(Dashboard!$D:$D,9))=0),0,IF(AP7=0,0.05*INDEX(Dashboard!$D:$D,9),IF(AP7=1,$AV$11,$AV$12)*AS7)) -> 0 | O7: ="" | R7: =IF(INDEX($B:$B,7)="","",IF(AND(INDEX($M:$M,7)="",N(O7)=0),"",N(INDEX($M:$M,7))*IF(INDEX($N:$N,7)="+ VAT",1.2,1)+N(O7))) | T7: ="" | W7: =IF(R7="","",R7-N(T7)) | X7: =IF(R7="","",IF(INDEX($K:$K,7)<>"",INDEX($K:$K,7),J7)-R7) | AA7: Your total budget | AB7: =IF(N(INDEX(Dashboard!$D:$D,9))=0,"to enter",INDEX(Dashboard!$D:$D,9)) -> to enter | AM7: =IF(INDEX($B:$B,7)="","",IF(INDEX($K:$K,7)<>"",INDEX($K:$K,7),J7)) -> 0 | AN7: 3000 | AO7: 40 | AP7: 1 | AQ7: 1500 | AR7: 0 | AS7: =IF(AP7="",0,N(AN7)+N(AO7)*$AV$7) -> 7000 | AT7: =IF(AP7="",0,N(AQ7)+N(AR7)*$AV$7) -> 1500 | AV7: =IF(N(INDEX(Dashboard!$D:$D,10))>0,INDEX(Dashboard!$D:$D,10),MAX(100,SUM(Guests!$AI$7:$AI$506))) -> 100
B8: Catering & drinks | E8: wedding breakfast average £5,406; drinks extra | J8: =IF(OR(INDEX($B:$B,8)="",AP8="",N(INDEX(Dashboard!$D:$D,9))=0),0,IF(AP8=0,0.05*INDEX(Dashboard!$D:$D,9),IF(AP8=1,$AV$11,$AV$12)*AS8)) -> 0 | O8: ="" | R8: =IF(INDEX($B:$B,8)="","",IF(AND(INDEX($M:$M,8)="",N(O8)=0),"",N(INDEX($M:$M,8))*IF(INDEX($N:$N,8)="+ VAT",1.2,1)+N(O8))) | T8: ="" | W8: =IF(R8="","",R8-N(T8)) | X8: =IF(R8="","",IF(INDEX($K:$K,8)<>"",INDEX($K:$K,8),J8)-R8) | AA8: Guests counted | AB8: =AV7 -> 100 | AM8: =IF(INDEX($B:$B,8)="","",IF(INDEX($K:$K,8)<>"",INDEX($K:$K,8),J8)) -> 0 | AN8: 0 | AO8: 85 | AP8: 1 | AQ8: 0 | AR8: 40 | AS8: =IF(AP8="",0,N(AN8)+N(AO8)*$AV$7) -> 8500 | AT8: =IF(AP8="",0,N(AQ8)+N(AR8)*$AV$7) -> 4000 | AV8: =N(INDEX(Dashboard!$D:$D,9))*0.95 -> 0
B9: Photographer | E9: average £1,484 | J9: =IF(OR(INDEX($B:$B,9)="",AP9="",N(INDEX(Dashboard!$D:$D,9))=0),0,IF(AP9=0,0.05*INDEX(Dashboard!$D:$D,9),IF(AP9=1,$AV$11,$AV$12)*AS9)) -> 0 | O9: ="" | R9: =IF(INDEX($B:$B,9)="","",IF(AND(INDEX($M:$M,9)="",N(O9)=0),"",N(INDEX($M:$M,9))*IF(INDEX($N:$N,9)="+ VAT",1.2,1)+N(O9))) | T9: ="" | W9: =IF(R9="","",R9-N(T9)) | X9: =IF(R9="","",IF(INDEX($K:$K,9)<>"",INDEX($K:$K,9),J9)-R9) | AA9: Average for your region and guests | AB9: =ROUND((9000+140*AB8)*IFERROR(INDEX(Lists!$AH$1:$AH$13,MATCH(AB12,Lists!$AG$1:$AG$13,0)),20604)/20604/100,0)*100 -> 23000 | AM9: =IF(INDEX($B:$B,9)="","",IF(INDEX($K:$K,9)<>"",INDEX($K:$K,9),J9)) -> 0 | AN9: 1484 | AO9: 0 | AP9: 1 | AQ9: 800 | AR9: 0 | AS9: =IF(AP9="",0,N(AN9)+N(AO9)*$AV$7) -> 1484 | AT9: =IF(AP9="",0,N(AQ9)+N(AR9)*$AV$7) -> 800 | AV9: =SUMPRODUCT((AP7:AP42=1)*AS7:AS42) -> 27416
B10: Videographer | E10: average £1,514 | J10: =IF(OR(INDEX($B:$B,10)="",AP10="",N(INDEX(Dashboard!$D:$D,9))=0),0,IF(AP10=0,0.05*INDEX(Dashboard!$D:$D,9),IF(AP10=1,$AV$11,$AV$12)*AS10)) -> 0 | O10: ="" | R10: =IF(INDEX($B:$B,10)="","",IF(AND(INDEX($M:$M,10)="",N(O10)=0),"",N(INDEX($M:$M,10))*IF(INDEX($N:$N,10)="+ VAT",1.2,1)+N(O10))) | T10: ="" | W10: =IF(R10="","",R10-N(T10)) | X10: =IF(R10="","",IF(INDEX($K:$K,10)<>"",INDEX($K:$K,10),J10)-R10) | AA10: Our verdict | AB10: =IF(N(INDEX(Dashboard!$D:$D,9))=0,"Enter your budget first",IF(INDEX(Dashboard!$D:$D,9)>=1.2*AB9,"Comfortable",IF(INDEX(Dashboard!$D:$D,9)>=0.9*AB9,"About average",IF(INDEX(Dashboard!$D:$D,9)>=0.7*AB9,"Tight: choices to make","Very tight")))) -> Enter your budget first | AM10: =IF(INDEX($B:$B,10)="","",IF(INDEX($K:$K,10)<>"",INDEX($K:$K,10),J10)) -> 0 | AN10: 1514 | AO10: 0 | AP10: 3 | AQ10: 800 | AR10: 0 | AS10: =IF(AP10="",0,N(AN10)+N(AO10)*$AV$7) -> 1514 | AT10: =IF(AP10="",0,N(AQ10)+N(AR10)*$AV$7) -> 800 | AV10: =SUMPRODUCT((AP7:AP42=3)*AS7:AS42) -> 8401
B11: Band / DJ | E11: evening music average £1,061; ceremony music £845 | J11: =IF(OR(INDEX($B:$B,11)="",AP11="",N(INDEX(Dashboard!$D:$D,9))=0),0,IF(AP11=0,0.05*INDEX(Dashboard!$D:$D,9),IF(AP11=1,$AV$11,$AV$12)*AS11)) -> 0 | O11: ="" | R11: =IF(INDEX($B:$B,11)="","",IF(AND(INDEX($M:$M,11)="",N(O11)=0),"",N(INDEX($M:$M,11))*IF(INDEX($N:$N,11)="+ VAT",1.2,1)+N(O11))) | T11: ="" | W11: =IF(R11="","",R11-N(T11)) | X11: =IF(R11="","",IF(INDEX($K:$K,11)<>"",INDEX($K:$K,11),J11)-R11) | AA11: Optional items (videographer, honeymoon…) | AB11: =IF(N(AV8)=0,"–",IF(AV12=0,"not funded",IF(AV12<AV11,"partly","funded"))) -> – | AM11: =IF(INDEX($B:$B,11)="","",IF(INDEX($K:$K,11)<>"",INDEX($K:$K,11),J11)) -> 0 | AN11: 1061 | AO11: 0 | AP11: 1 | AQ11: 500 | AR11: 0 | AS11: =IF(AP11="",0,N(AN11)+N(AO11)*$AV$7) -> 1061 | AT11: =IF(AP11="",0,N(AQ11)+N(AR11)*$AV$7) -> 500 | AV11: =IF(AV9=0,0,IF(AV8>=AV9+AV10,AV8/(AV9+AV10),IF(AV8>=AV9+0.5*AV10,1,AV8/AV9))) -> 0
B12: Flowers & décor | E12: florist average £1,187; décor £1,404 | J12: =IF(OR(INDEX($B:$B,12)="",AP12="",N(INDEX(Dashboard!$D:$D,9))=0),0,IF(AP12=0,0.05*INDEX(Dashboard!$D:$D,9),IF(AP12=1,$AV$11,$AV$12)*AS12)) -> 0 | O12: ="" | R12: =IF(INDEX($B:$B,12)="","",IF(AND(INDEX($M:$M,12)="",N(O12)=0),"",N(INDEX($M:$M,12))*IF(INDEX($N:$N,12)="+ VAT",1.2,1)+N(O12))) | T12: ="" | W12: =IF(R12="","",R12-N(T12)) | X12: =IF(R12="","",IF(INDEX($K:$K,12)<>"",INDEX($K:$K,12),J12)-R12) | AA12: Your region ▾ | AB12: UK average | AM12: =IF(INDEX($B:$B,12)="","",IF(INDEX($K:$K,12)<>"",INDEX($K:$K,12),J12)) -> 0 | AN12: 600 | AO12: 8 | AP12: 1 | AQ12: 300 | AR12: 0 | AS12: =IF(AP12="",0,N(AN12)+N(AO12)*$AV$7) -> 1400 | AT12: =IF(AP12="",0,N(AQ12)+N(AR12)*$AV$7) -> 300 | AV12: =IF(AV10=0,0,IF(AV8>=AV9+AV10,AV8/(AV9+AV10),IF(AV8>=AV9+0.5*AV10,(AV8-AV9)/AV10,0))) -> 0
B13: Dress & accessories | E13: dress average £1,532; accessories £449 | J13: =IF(OR(INDEX($B:$B,13)="",AP13="",N(INDEX(Dashboard!$D:$D,9))=0),0,IF(AP13=0,0.05*INDEX(Dashboard!$D:$D,9),IF(AP13=1,$AV$11,$AV$12)*AS13)) -> 0 | O13: ="" | R13: =IF(INDEX($B:$B,13)="","",IF(AND(INDEX($M:$M,13)="",N(O13)=0),"",N(INDEX($M:$M,13))*IF(INDEX($N:$N,13)="+ VAT",1.2,1)+N(O13))) | T13: ="" | W13: =IF(R13="","",R13-N(T13)) | X13: =IF(R13="","",IF(INDEX($K:$K,13)<>"",INDEX($K:$K,13),J13)-R13) | AA13: Who's paying? | AM13: =IF(INDEX($B:$B,13)="","",IF(INDEX($K:$K,13)<>"",INDEX($K:$K,13),J13)) -> 0 | AN13: 1980 | AO13: 0 | AP13: 1 | AQ13: 400 | AR13: 0 | AS13: =IF(AP13="",0,N(AN13)+N(AO13)*$AV$7) -> 1980 | AT13: =IF(AP13="",0,N(AQ13)+N(AR13)*$AV$7) -> 400
B14: Suit & accessories | E14: average £859; hire costs less | J14: =IF(OR(INDEX($B:$B,14)="",AP14="",N(INDEX(Dashboard!$D:$D,9))=0),0,IF(AP14=0,0.05*INDEX(Dashboard!$D:$D,9),IF(AP14=1,$AV$11,$AV$12)*AS14)) -> 0 | O14: ="" | R14: =IF(INDEX($B:$B,14)="","",IF(AND(INDEX($M:$M,14)="",N(O14)=0),"",N(INDEX($M:$M,14))*IF(INDEX($N:$N,14)="+ VAT",1.2,1)+N(O14))) | T14: ="" | W14: =IF(R14="","",R14-N(T14)) | X14: =IF(R14="","",IF(INDEX($K:$K,14)<>"",INDEX($K:$K,14),J14)-R14) | AA14: Our savings | AM14: =IF(INDEX($B:$B,14)="","",IF(INDEX($K:$K,14)<>"",INDEX($K:$K,14),J14)) -> 0 | AN14: 859 | AO14: 0 | AP14: 1 | AQ14: 150 | AR14: 0 | AS14: =IF(AP14="",0,N(AN14)+N(AO14)*$AV$7) -> 859 | AT14: =IF(AP14="",0,N(AQ14)+N(AR14)*$AV$7) -> 150
B15: Wedding rings | E15: rings and jewellery average £1,057 | J15: =IF(OR(INDEX($B:$B,15)="",AP15="",N(INDEX(Dashboard!$D:$D,9))=0),0,IF(AP15=0,0.05*INDEX(Dashboard!$D:$D,9),IF(AP15=1,$AV$11,$AV$12)*AS15)) -> 0 | O15: ="" | R15: =IF(INDEX($B:$B,15)="","",IF(AND(INDEX($M:$M,15)="",N(O15)=0),"",N(INDEX($M:$M,15))*IF(INDEX($N:$N,15)="+ VAT",1.2,1)+N(O15))) | T15: ="" | W15: =IF(R15="","",R15-N(T15)) | X15: =IF(R15="","",IF(INDEX($K:$K,15)<>"",INDEX($K:$K,15),J15)-R15) | AA15: =IF(INDEX(Dashboard!$D:$D,6)="","(first name 1)'s family",INDEX(Dashboard!$D:$D,6)&"'s family") -> (first name 1)'s family | AM15: =IF(INDEX($B:$B,15)="","",IF(INDEX($K:$K,15)<>"",INDEX($K:$K,15),J15)) -> 0 | AN15: 1057 | AO15: 0 | AP15: 1 | AQ15: 300 | AR15: 0 | AS15: =IF(AP15="",0,N(AN15)+N(AO15)*$AV$7) -> 1057 | AT15: =IF(AP15="",0,N(AQ15)+N(AR15)*$AV$7) -> 300
B16: Hair & make-up | E16: hair £417 and make-up £394 on average | J16: =IF(OR(INDEX($B:$B,16)="",AP16="",N(INDEX(Dashboard!$D:$D,9))=0),0,IF(AP16=0,0.05*INDEX(Dashboard!$D:$D,9),IF(AP16=1,$AV$11,$AV$12)*AS16)) -> 0 | O16: ="" | R16: =IF(INDEX($B:$B,16)="","",IF(AND(INDEX($M:$M,16)="",N(O16)=0),"",N(INDEX($M:$M,16))*IF(INDEX($N:$N,16)="+ VAT",1.2,1)+N(O16))) | T16: ="" | W16: =IF(R16="","",R16-N(T16)) | X16: =IF(R16="","",IF(INDEX($K:$K,16)<>"",INDEX($K:$K,16),J16)-R16) | AA16: =IF(INDEX(Dashboard!$D:$D,7)="","(first name 2)'s family",INDEX(Dashboard!$D:$D,7)&"'s family") -> (first name 2)'s family | AM16: =IF(INDEX($B:$B,16)="","",IF(INDEX($K:$K,16)<>"",INDEX($K:$K,16),J16)) -> 0 | AN16: 811 | AO16: 0 | AP16: 1 | AQ16: 200 | AR16: 0 | AS16: =IF(AP16="",0,N(AN16)+N(AO16)*$AV$7) -> 811 | AT16: =IF(AP16="",0,N(AQ16)+N(AR16)*$AV$7) -> 200
B17: Stationery | E17: average £378 | J17: =IF(OR(INDEX($B:$B,17)="",AP17="",N(INDEX(Dashboard!$D:$D,9))=0),0,IF(AP17=0,0.05*INDEX(Dashboard!$D:$D,9),IF(AP17=1,$AV$11,$AV$12)*AS17)) -> 0 | O17: ="" | R17: =IF(INDEX($B:$B,17)="","",IF(AND(INDEX($M:$M,17)="",N(O17)=0),"",N(INDEX($M:$M,17))*IF(INDEX($N:$N,17)="+ VAT",1.2,1)+N(O17))) | T17: ="" | W17: =IF(R17="","",R17-N(T17)) | X17: =IF(R17="","",IF(INDEX($K:$K,17)<>"",INDEX($K:$K,17),J17)-R17) | AA17: Others (gifts, honeymoon fund…) | AM17: =IF(INDEX($B:$B,17)="","",IF(INDEX($K:$K,17)<>"",INDEX($K:$K,17),J17)) -> 0 | AN17: 0 | AO17: 5 | AP17: 1 | AQ17: 0 | AR17: 1.5 | AS17: =IF(AP17="",0,N(AN17)+N(AO17)*$AV$7) -> 500 | AT17: =IF(AP17="",0,N(AQ17)+N(AR17)*$AV$7) -> 150
B18: Wedding cake | E18: average £360 | J18: =IF(OR(INDEX($B:$B,18)="",AP18="",N(INDEX(Dashboard!$D:$D,9))=0),0,IF(AP18=0,0.05*INDEX(Dashboard!$D:$D,9),IF(AP18=1,$AV$11,$AV$12)*AS18)) -> 0 | O18: ="" | R18: =IF(INDEX($B:$B,18)="","",IF(AND(INDEX($M:$M,18)="",N(O18)=0),"",N(INDEX($M:$M,18))*IF(INDEX($N:$N,18)="+ VAT",1.2,1)+N(O18))) | T18: ="" | W18: =IF(R18="","",R18-N(T18)) | X18: =IF(R18="","",IF(INDEX($K:$K,18)<>"",INDEX($K:$K,18),J18)-R18) | AA18: Total funding | AB18: =SUM(AB14:AB17) -> 0 | AM18: =IF(INDEX($B:$B,18)="","",IF(INDEX($K:$K,18)<>"",INDEX($K:$K,18),J18)) -> 0 | AN18: 360 | AO18: 0 | AP18: 1 | AQ18: 150 | AR18: 0 | AS18: =IF(AP18="",0,N(AN18)+N(AO18)*$AV$7) -> 360 | AT18: =IF(AP18="",0,N(AQ18)+N(AR18)*$AV$7) -> 150
B19: Ceremony & registrar fees | E19: notice and registrar fees set by your council; celebrant average £504 | J19: =IF(OR(INDEX($B:$B,19)="",AP19="",N(INDEX(Dashboard!$D:$D,9))=0),0,IF(AP19=0,0.05*INDEX(Dashboard!$D:$D,9),IF(AP19=1,$AV$11,$AV$12)*AS19)) -> 0 | O19: ="" | R19: =IF(INDEX($B:$B,19)="","",IF(AND(INDEX($M:$M,19)="",N(O19)=0),"",N(INDEX($M:$M,19))*IF(INDEX($N:$N,19)="+ VAT",1.2,1)+N(O19))) | T19: ="" | W19: =IF(R19="","",R19-N(T19)) | X19: =IF(R19="","",IF(INDEX($K:$K,19)<>"",INDEX($K:$K,19),J19)-R19) | AA19: Estimated final cost | AB19: =(SUM(Budget!$R$7:$R$42)+SUMPRODUCT((Budget!$R$7:$R$42="")*(Budget!$K$7:$K$42<>"")*Budget!$K$7:$K$42)+SUMPRODUCT((Budget!$R$7:$R$42="")*(Budget!$K$7:$K$42="")*Budget!$J$7:$J$42)) -> 0 | AM19: =IF(INDEX($B:$B,19)="","",IF(INDEX($K:$K,19)<>"",INDEX($K:$K,19),J19)) -> 0 | AN19: 504 | AO19: 0 | AP19: 1 | AQ19: 150 | AR19: 0 | AS19: =IF(AP19="",0,N(AN19)+N(AO19)*$AV$7) -> 504 | AT19: =IF(AP19="",0,N(AQ19)+N(AR19)*$AV$7) -> 150
B20: Evening food | E20: average £2,002 (bacon rolls, pizza, cheese table…) | J20: =IF(OR(INDEX($B:$B,20)="",AP20="",N(INDEX(Dashboard!$D:$D,9))=0),0,IF(AP20=0,0.05*INDEX(Dashboard!$D:$D,9),IF(AP20=1,$AV$11,$AV$12)*AS20)) -> 0 | O20: ="" | R20: =IF(INDEX($B:$B,20)="","",IF(AND(INDEX($M:$M,20)="",N(O20)=0),"",N(INDEX($M:$M,20))*IF(INDEX($N:$N,20)="+ VAT",1.2,1)+N(O20))) | T20: ="" | W20: =IF(R20="","",R20-N(T20)) | X20: =IF(R20="","",IF(INDEX($K:$K,20)<>"",INDEX($K:$K,20),J20)-R20) | AA20: =IF(AB19-AB18>0,"Still to fund","Funding margin") -> Funding margin | AB20: =ABS(AB19-AB18) -> 0 | AM20: =IF(INDEX($B:$B,20)="","",IF(INDEX($K:$K,20)<>"",INDEX($K:$K,20),J20)) -> 0 | AN20: 0 | AO20: 15 | AP20: 1 | AQ20: 0 | AR20: 6 | AS20: =IF(AP20="",0,N(AN20)+N(AO20)*$AV$7) -> 1500 | AT20: =IF(AP20="",0,N(AQ20)+N(AR20)*$AV$7) -> 600
B21: Transport | E21: average £593 | J21: =IF(OR(INDEX($B:$B,21)="",AP21="",N(INDEX(Dashboard!$D:$D,9))=0),0,IF(AP21=0,0.05*INDEX(Dashboard!$D:$D,9),IF(AP21=1,$AV$11,$AV$12)*AS21)) -> 0 | O21: ="" | R21: =IF(INDEX($B:$B,21)="","",IF(AND(INDEX($M:$M,21)="",N(O21)=0),"",N(INDEX($M:$M,21))*IF(INDEX($N:$N,21)="+ VAT",1.2,1)+N(O21))) | T21: ="" | W21: =IF(R21="","",R21-N(T21)) | X21: =IF(R21="","",IF(INDEX($K:$K,21)<>"",INDEX($K:$K,21),J21)-R21) | AM21: =IF(INDEX($B:$B,21)="","",IF(INDEX($K:$K,21)<>"",INDEX($K:$K,21),J21)) -> 0 | AN21: 593 | AO21: 0 | AP21: 3 | AQ21: 200 | AR21: 0 | AS21: =IF(AP21="",0,N(AN21)+N(AO21)*$AV$7) -> 593 | AT21: =IF(AP21="",0,N(AQ21)+N(AR21)*$AV$7) -> 200
B22: Entertainment & toastmaster | E22: entertainment average £844; toastmaster £514 | J22: =IF(OR(INDEX($B:$B,22)="",AP22="",N(INDEX(Dashboard!$D:$D,9))=0),0,IF(AP22=0,0.05*INDEX(Dashboard!$D:$D,9),IF(AP22=1,$AV$11,$AV$12)*AS22)) -> 0 | O22: ="" | R22: =IF(INDEX($B:$B,22)="","",IF(AND(INDEX($M:$M,22)="",N(O22)=0),"",N(INDEX($M:$M,22))*IF(INDEX($N:$N,22)="+ VAT",1.2,1)+N(O22))) | T22: ="" | W22: =IF(R22="","",R22-N(T22)) | X22: =IF(R22="","",IF(INDEX($K:$K,22)<>"",INDEX($K:$K,22),J22)-R22) | AM22: =IF(INDEX($B:$B,22)="","",IF(INDEX($K:$K,22)<>"",INDEX($K:$K,22),J22)) -> 0 | AN22: 844 | AO22: 0 | AP22: 3 | AQ22: 100 | AR22: 0 | AS22: =IF(AP22="",0,N(AN22)+N(AO22)*$AV$7) -> 844 | AT22: =IF(AP22="",0,N(AQ22)+N(AR22)*$AV$7) -> 100
B23: Favours & thank-you gifts | E23: favours from about £1 a guest, plus gifts for your bridal party (estimate) | J23: =IF(OR(INDEX($B:$B,23)="",AP23="",N(INDEX(Dashboard!$D:$D,9))=0),0,IF(AP23=0,0.05*INDEX(Dashboard!$D:$D,9),IF(AP23=1,$AV$11,$AV$12)*AS23)) -> 0 | O23: ="" | R23: =IF(INDEX($B:$B,23)="","",IF(AND(INDEX($M:$M,23)="",N(O23)=0),"",N(INDEX($M:$M,23))*IF(INDEX($N:$N,23)="+ VAT",1.2,1)+N(O23))) | T23: ="" | W23: =IF(R23="","",R23-N(T23)) | X23: =IF(R23="","",IF(INDEX($K:$K,23)<>"",INDEX($K:$K,23),J23)-R23) | AM23: =IF(INDEX($B:$B,23)="","",IF(INDEX($K:$K,23)<>"",INDEX($K:$K,23),J23)) -> 0 | AN23: 100 | AO23: 3 | AP23: 1 | AQ23: 0 | AR23: 1 | AS23: =IF(AP23="",0,N(AN23)+N(AO23)*$AV$7) -> 400 | AT23: =IF(AP23="",0,N(AQ23)+N(AR23)*$AV$7) -> 100
B24: Accommodation & wedding night | E24: depends on your venue (estimate) | J24: =IF(OR(INDEX($B:$B,24)="",AP24="",N(INDEX(Dashboard!$D:$D,9))=0),0,IF(AP24=0,0.05*INDEX(Dashboard!$D:$D,9),IF(AP24=1,$AV$11,$AV$12)*AS24)) -> 0 | O24: ="" | R24: =IF(INDEX($B:$B,24)="","",IF(AND(INDEX($M:$M,24)="",N(O24)=0),"",N(INDEX($M:$M,24))*IF(INDEX($N:$N,24)="+ VAT",1.2,1)+N(O24))) | T24: ="" | W24: =IF(R24="","",R24-N(T24)) | X24: =IF(R24="","",IF(INDEX($K:$K,24)<>"",INDEX($K:$K,24),J24)-R24) | AM24: =IF(INDEX($B:$B,24)="","",IF(INDEX($K:$K,24)<>"",INDEX($K:$K,24),J24)) -> 0 | AN24: 250 | AO24: 0 | AP24: 3 | AQ24: 0 | AR24: 0 | AS24: =IF(AP24="",0,N(AN24)+N(AO24)*$AV$7) -> 250 | AT24: =IF(AP24="",0,N(AQ24)+N(AR24)*$AV$7) -> 0
B25: Day-after brunch | E25: often a simple buffet or BBQ for some guests (estimate) | J25: =IF(OR(INDEX($B:$B,25)="",AP25="",N(INDEX(Dashboard!$D:$D,9))=0),0,IF(AP25=0,0.05*INDEX(Dashboard!$D:$D,9),IF(AP25=1,$AV$11,$AV$12)*AS25)) -> 0 | O25: ="" | R25: =IF(INDEX($B:$B,25)="","",IF(AND(INDEX($M:$M,25)="",N(O25)=0),"",N(INDEX($M:$M,25))*IF(INDEX($N:$N,25)="+ VAT",1.2,1)+N(O25))) | T25: ="" | W25: =IF(R25="","",R25-N(T25)) | X25: =IF(R25="","",IF(INDEX($K:$K,25)<>"",INDEX($K:$K,25),J25)-R25) | AM25: =IF(INDEX($B:$B,25)="","",IF(INDEX($K:$K,25)<>"",INDEX($K:$K,25),J25)) -> 0 | AN25: 0 | AO25: 12 | AP25: 3 | AQ25: 0 | AR25: 0 | AS25: =IF(AP25="",0,N(AN25)+N(AO25)*$AV$7) -> 1200 | AT25: =IF(AP25="",0,N(AQ25)+N(AR25)*$AV$7) -> 0
B26: Honeymoon | E26: varies a lot: set your own amount (estimate) | J26: =IF(OR(INDEX($B:$B,26)="",AP26="",N(INDEX(Dashboard!$D:$D,9))=0),0,IF(AP26=0,0.05*INDEX(Dashboard!$D:$D,9),IF(AP26=1,$AV$11,$AV$12)*AS26)) -> 0 | O26: ="" | R26: =IF(INDEX($B:$B,26)="","",IF(AND(INDEX($M:$M,26)="",N(O26)=0),"",N(INDEX($M:$M,26))*IF(INDEX($N:$N,26)="+ VAT",1.2,1)+N(O26))) | T26: ="" | W26: =IF(R26="","",R26-N(T26)) | X26: =IF(R26="","",IF(INDEX($K:$K,26)<>"",INDEX($K:$K,26),J26)-R26) | AM26: =IF(INDEX($B:$B,26)="","",IF(INDEX($K:$K,26)<>"",INDEX($K:$K,26),J26)) -> 0 | AN26: 4000 | AO26: 0 | AP26: 3 | AQ26: 0 | AR26: 0 | AS26: =IF(AP26="",0,N(AN26)+N(AO26)*$AV$7) -> 4000 | AT26: =IF(AP26="",0,N(AQ26)+N(AR26)*$AV$7) -> 0
B27: Contingency | E27: keep about 5% of your budget for surprises | J27: =IF(OR(INDEX($B:$B,27)="",AP27="",N(INDEX(Dashboard!$D:$D,9))=0),0,IF(AP27=0,0.05*INDEX(Dashboard!$D:$D,9),IF(AP27=1,$AV$11,$AV$12)*AS27)) -> 0 | O27: ="" | R27: =IF(INDEX($B:$B,27)="","",IF(AND(INDEX($M:$M,27)="",N(O27)=0),"",N(INDEX($M:$M,27))*IF(INDEX($N:$N,27)="+ VAT",1.2,1)+N(O27))) | T27: ="" | W27: =IF(R27="","",R27-N(T27)) | X27: =IF(R27="","",IF(INDEX($K:$K,27)<>"",INDEX($K:$K,27),J27)-R27) | AM27: =IF(INDEX($B:$B,27)="","",IF(INDEX($K:$K,27)<>"",INDEX($K:$K,27),J27)) -> 0 | AN27: 0 | AO27: 0 | AP27: 0 | AQ27: 0 | AR27: 0 | AS27: =IF(AP27="",0,N(AN27)+N(AO27)*$AV$7) -> 0 | AT27: =IF(AP27="",0,N(AQ27)+N(AR27)*$AV$7) -> 0
J28: =IF(OR(INDEX($B:$B,28)="",AP28="",N(INDEX(Dashboard!$D:$D,9))=0),0,IF(AP28=0,0.05*INDEX(Dashboard!$D:$D,9),IF(AP28=1,$AV$11,$AV$12)*AS28)) -> 0 | O28: ="" | R28: =IF(INDEX($B:$B,28)="","",IF(AND(INDEX($M:$M,28)="",N(O28)=0),"",N(INDEX($M:$M,28))*IF(INDEX($N:$N,28)="+ VAT",1.2,1)+N(O28))) | T28: ="" | W28: =IF(R28="","",R28-N(T28)) | X28: =IF(R28="","",IF(INDEX($K:$K,28)<>"",INDEX($K:$K,28),J28)-R28) | AM28: =IF(INDEX($B:$B,28)="","",IF(INDEX($K:$K,28)<>"",INDEX($K:$K,28),J28)) | AS28: =IF(AP28="",0,N(AN28)+N(AO28)*$AV$7) -> 0 | AT28: =IF(AP28="",0,N(AQ28)+N(AR28)*$AV$7) -> 0
J29: =IF(OR(INDEX($B:$B,29)="",AP29="",N(INDEX(Dashboard!$D:$D,9))=0),0,IF(AP29=0,0.05*INDEX(Dashboard!$D:$D,9),IF(AP29=1,$AV$11,$AV$12)*AS29)) -> 0 | O29: ="" | R29: =IF(INDEX($B:$B,29)="","",IF(AND(INDEX($M:$M,29)="",N(O29)=0),"",N(INDEX($M:$M,29))*IF(INDEX($N:$N,29)="+ VAT",1.2,1)+N(O29))) | T29: ="" | W29: =IF(R29="","",R29-N(T29)) | X29: =IF(R29="","",IF(INDEX($K:$K,29)<>"",INDEX($K:$K,29),J29)-R29) | AM29: =IF(INDEX($B:$B,29)="","",IF(INDEX($K:$K,29)<>"",INDEX($K:$K,29),J29)) | AS29: =IF(AP29="",0,N(AN29)+N(AO29)*$AV$7) -> 0 | AT29: =IF(AP29="",0,N(AQ29)+N(AR29)*$AV$7) -> 0
J30: =IF(OR(INDEX($B:$B,30)="",AP30="",N(INDEX(Dashboard!$D:$D,9))=0),0,IF(AP30=0,0.05*INDEX(Dashboard!$D:$D,9),IF(AP30=1,$AV$11,$AV$12)*AS30)) -> 0 | O30: ="" | R30: =IF(INDEX($B:$B,30)="","",IF(AND(INDEX($M:$M,30)="",N(O30)=0),"",N(INDEX($M:$M,30))*IF(INDEX($N:$N,30)="+ VAT",1.2,1)+N(O30))) | T30: ="" | W30: =IF(R30="","",R30-N(T30)) | X30: =IF(R30="","",IF(INDEX($K:$K,30)<>"",INDEX($K:$K,30),J30)-R30) | AM30: =IF(INDEX($B:$B,30)="","",IF(INDEX($K:$K,30)<>"",INDEX($K:$K,30),J30)) | AS30: =IF(AP30="",0,N(AN30)+N(AO30)*$AV$7) -> 0 | AT30: =IF(AP30="",0,N(AQ30)+N(AR30)*$AV$7) -> 0
J31: =IF(OR(INDEX($B:$B,31)="",AP31="",N(INDEX(Dashboard!$D:$D,9))=0),0,IF(AP31=0,0.05*INDEX(Dashboard!$D:$D,9),IF(AP31=1,$AV$11,$AV$12)*AS31)) -> 0 | O31: ="" | R31: =IF(INDEX($B:$B,31)="","",IF(AND(INDEX($M:$M,31)="",N(O31)=0),"",N(INDEX($M:$M,31))*IF(INDEX($N:$N,31)="+ VAT",1.2,1)+N(O31))) | T31: ="" | W31: =IF(R31="","",R31-N(T31)) | X31: =IF(R31="","",IF(INDEX($K:$K,31)<>"",INDEX($K:$K,31),J31)-R31) | AM31: =IF(INDEX($B:$B,31)="","",IF(INDEX($K:$K,31)<>"",INDEX($K:$K,31),J31)) | AS31: =IF(AP31="",0,N(AN31)+N(AO31)*$AV$7) -> 0 | AT31: =IF(AP31="",0,N(AQ31)+N(AR31)*$AV$7) -> 0
J32: =IF(OR(INDEX($B:$B,32)="",AP32="",N(INDEX(Dashboard!$D:$D,9))=0),0,IF(AP32=0,0.05*INDEX(Dashboard!$D:$D,9),IF(AP32=1,$AV$11,$AV$12)*AS32)) -> 0 | O32: ="" | R32: =IF(INDEX($B:$B,32)="","",IF(AND(INDEX($M:$M,32)="",N(O32)=0),"",N(INDEX($M:$M,32))*IF(INDEX($N:$N,32)="+ VAT",1.2,1)+N(O32))) | T32: ="" | W32: =IF(R32="","",R32-N(T32)) | X32: =IF(R32="","",IF(INDEX($K:$K,32)<>"",INDEX($K:$K,32),J32)-R32) | AM32: =IF(INDEX($B:$B,32)="","",IF(INDEX($K:$K,32)<>"",INDEX($K:$K,32),J32)) | AS32: =IF(AP32="",0,N(AN32)+N(AO32)*$AV$7) -> 0 | AT32: =IF(AP32="",0,N(AQ32)+N(AR32)*$AV$7) -> 0
J33: =IF(OR(INDEX($B:$B,33)="",AP33="",N(INDEX(Dashboard!$D:$D,9))=0),0,IF(AP33=0,0.05*INDEX(Dashboard!$D:$D,9),IF(AP33=1,$AV$11,$AV$12)*AS33)) -> 0 | O33: ="" | R33: =IF(INDEX($B:$B,33)="","",IF(AND(INDEX($M:$M,33)="",N(O33)=0),"",N(INDEX($M:$M,33))*IF(INDEX($N:$N,33)="+ VAT",1.2,1)+N(O33))) | T33: ="" | W33: =IF(R33="","",R33-N(T33)) | X33: =IF(R33="","",IF(INDEX($K:$K,33)<>"",INDEX($K:$K,33),J33)-R33) | AM33: =IF(INDEX($B:$B,33)="","",IF(INDEX($K:$K,33)<>"",INDEX($K:$K,33),J33)) | AS33: =IF(AP33="",0,N(AN33)+N(AO33)*$AV$7) -> 0 | AT33: =IF(AP33="",0,N(AQ33)+N(AR33)*$AV$7) -> 0
J34: =IF(OR(INDEX($B:$B,34)="",AP34="",N(INDEX(Dashboard!$D:$D,9))=0),0,IF(AP34=0,0.05*INDEX(Dashboard!$D:$D,9),IF(AP34=1,$AV$11,$AV$12)*AS34)) -> 0 | O34: ="" | R34: =IF(INDEX($B:$B,34)="","",IF(AND(INDEX($M:$M,34)="",N(O34)=0),"",N(INDEX($M:$M,34))*IF(INDEX($N:$N,34)="+ VAT",1.2,1)+N(O34))) | T34: ="" | W34: =IF(R34="","",R34-N(T34)) | X34: =IF(R34="","",IF(INDEX($K:$K,34)<>"",INDEX($K:$K,34),J34)-R34) | AM34: =IF(INDEX($B:$B,34)="","",IF(INDEX($K:$K,34)<>"",INDEX($K:$K,34),J34)) | AS34: =IF(AP34="",0,N(AN34)+N(AO34)*$AV$7) -> 0 | AT34: =IF(AP34="",0,N(AQ34)+N(AR34)*$AV$7) -> 0
J35: =IF(OR(INDEX($B:$B,35)="",AP35="",N(INDEX(Dashboard!$D:$D,9))=0),0,IF(AP35=0,0.05*INDEX(Dashboard!$D:$D,9),IF(AP35=1,$AV$11,$AV$12)*AS35)) -> 0 | O35: ="" | R35: =IF(INDEX($B:$B,35)="","",IF(AND(INDEX($M:$M,35)="",N(O35)=0),"",N(INDEX($M:$M,35))*IF(INDEX($N:$N,35)="+ VAT",1.2,1)+N(O35))) | T35: ="" | W35: =IF(R35="","",R35-N(T35)) | X35: =IF(R35="","",IF(INDEX($K:$K,35)<>"",INDEX($K:$K,35),J35)-R35) | AM35: =IF(INDEX($B:$B,35)="","",IF(INDEX($K:$K,35)<>"",INDEX($K:$K,35),J35)) | AS35: =IF(AP35="",0,N(AN35)+N(AO35)*$AV$7) -> 0 | AT35: =IF(AP35="",0,N(AQ35)+N(AR35)*$AV$7) -> 0
J36: =IF(OR(INDEX($B:$B,36)="",AP36="",N(INDEX(Dashboard!$D:$D,9))=0),0,IF(AP36=0,0.05*INDEX(Dashboard!$D:$D,9),IF(AP36=1,$AV$11,$AV$12)*AS36)) -> 0 | O36: ="" | R36: =IF(INDEX($B:$B,36)="","",IF(AND(INDEX($M:$M,36)="",N(O36)=0),"",N(INDEX($M:$M,36))*IF(INDEX($N:$N,36)="+ VAT",1.2,1)+N(O36))) | T36: ="" | W36: =IF(R36="","",R36-N(T36)) | X36: =IF(R36="","",IF(INDEX($K:$K,36)<>"",INDEX($K:$K,36),J36)-R36) | AM36: =IF(INDEX($B:$B,36)="","",IF(INDEX($K:$K,36)<>"",INDEX($K:$K,36),J36)) | AS36: =IF(AP36="",0,N(AN36)+N(AO36)*$AV$7) -> 0 | AT36: =IF(AP36="",0,N(AQ36)+N(AR36)*$AV$7) -> 0
J37: =IF(OR(INDEX($B:$B,37)="",AP37="",N(INDEX(Dashboard!$D:$D,9))=0),0,IF(AP37=0,0.05*INDEX(Dashboard!$D:$D,9),IF(AP37=1,$AV$11,$AV$12)*AS37)) -> 0 | O37: ="" | R37: =IF(INDEX($B:$B,37)="","",IF(AND(INDEX($M:$M,37)="",N(O37)=0),"",N(INDEX($M:$M,37))*IF(INDEX($N:$N,37)="+ VAT",1.2,1)+N(O37))) | T37: ="" | W37: =IF(R37="","",R37-N(T37)) | X37: =IF(R37="","",IF(INDEX($K:$K,37)<>"",INDEX($K:$K,37),J37)-R37) | AM37: =IF(INDEX($B:$B,37)="","",IF(INDEX($K:$K,37)<>"",INDEX($K:$K,37),J37)) | AS37: =IF(AP37="",0,N(AN37)+N(AO37)*$AV$7) -> 0 | AT37: =IF(AP37="",0,N(AQ37)+N(AR37)*$AV$7) -> 0
J38: =IF(OR(INDEX($B:$B,38)="",AP38="",N(INDEX(Dashboard!$D:$D,9))=0),0,IF(AP38=0,0.05*INDEX(Dashboard!$D:$D,9),IF(AP38=1,$AV$11,$AV$12)*AS38)) -> 0 | O38: ="" | R38: =IF(INDEX($B:$B,38)="","",IF(AND(INDEX($M:$M,38)="",N(O38)=0),"",N(INDEX($M:$M,38))*IF(INDEX($N:$N,38)="+ VAT",1.2,1)+N(O38))) | T38: ="" | W38: =IF(R38="","",R38-N(T38)) | X38: =IF(R38="","",IF(INDEX($K:$K,38)<>"",INDEX($K:$K,38),J38)-R38) | AM38: =IF(INDEX($B:$B,38)="","",IF(INDEX($K:$K,38)<>"",INDEX($K:$K,38),J38)) | AS38: =IF(AP38="",0,N(AN38)+N(AO38)*$AV$7) -> 0 | AT38: =IF(AP38="",0,N(AQ38)+N(AR38)*$AV$7) -> 0
J39: =IF(OR(INDEX($B:$B,39)="",AP39="",N(INDEX(Dashboard!$D:$D,9))=0),0,IF(AP39=0,0.05*INDEX(Dashboard!$D:$D,9),IF(AP39=1,$AV$11,$AV$12)*AS39)) -> 0 | O39: ="" | R39: =IF(INDEX($B:$B,39)="","",IF(AND(INDEX($M:$M,39)="",N(O39)=0),"",N(INDEX($M:$M,39))*IF(INDEX($N:$N,39)="+ VAT",1.2,1)+N(O39))) | T39: ="" | W39: =IF(R39="","",R39-N(T39)) | X39: =IF(R39="","",IF(INDEX($K:$K,39)<>"",INDEX($K:$K,39),J39)-R39) | AM39: =IF(INDEX($B:$B,39)="","",IF(INDEX($K:$K,39)<>"",INDEX($K:$K,39),J39)) | AS39: =IF(AP39="",0,N(AN39)+N(AO39)*$AV$7) -> 0 | AT39: =IF(AP39="",0,N(AQ39)+N(AR39)*$AV$7) -> 0
J40: =IF(OR(INDEX($B:$B,40)="",AP40="",N(INDEX(Dashboard!$D:$D,9))=0),0,IF(AP40=0,0.05*INDEX(Dashboard!$D:$D,9),IF(AP40=1,$AV$11,$AV$12)*AS40)) -> 0 | O40: ="" | R40: =IF(INDEX($B:$B,40)="","",IF(AND(INDEX($M:$M,40)="",N(O40)=0),"",N(INDEX($M:$M,40))*IF(INDEX($N:$N,40)="+ VAT",1.2,1)+N(O40))) | T40: ="" | W40: =IF(R40="","",R40-N(T40)) | X40: =IF(R40="","",IF(INDEX($K:$K,40)<>"",INDEX($K:$K,40),J40)-R40) | AM40: =IF(INDEX($B:$B,40)="","",IF(INDEX($K:$K,40)<>"",INDEX($K:$K,40),J40)) | AS40: =IF(AP40="",0,N(AN40)+N(AO40)*$AV$7) -> 0 | AT40: =IF(AP40="",0,N(AQ40)+N(AR40)*$AV$7) -> 0
...

Sheet Guests
B1: Dashboard | F1: MONEY | K1: GUESTS | P1: PLANNING | U1: THE DAY & AFTER | Z1: TOOLS | AB1: =IF(AND(Dashboard!$D$6<>"",Dashboard!$D$7<>""),Dashboard!$D$6&" & "&Dashboard!$D$7,"Your wedding")&IF(Dashboard!$AC$8="","",IF(Dashboard!$AC$8>TODAY()," · J-"&(Dashboard!$AC$8-TODAY()),"")) -> Your wedding
F2: Budget | H2: 🔒 Payments | K2: Guests | M2: 🔒 Tables | P2: 🔒 Checklist | R2: 🔒 Appointments | U2: 🔒 Ceremony | W2: 🔒 Music | Z2: ? Help
F3: 🔒 Suppliers | H3: 🔒 Shopping | K3: 🔒 Seating plan | M3: 🔒 Catering | P3: 🔒 Giving notice | R3: 🔒 Contacts | U3: 🔒 On the day | W3: 🔒 Thank yous | Z3: 🔒 Notes
B4: Guests | AE4: ↶ Made a mistake? Undo with Ctrl+Z, or the ↶ arrow at the top of the screen
B5: ✎ Type in the white cells. One row per person: fill in from Surname to Household first, then the rest as replies come in. Evening guests: choose "Evening only" in Invited to. Full guide and tip › Help
B6: No. | C6: Surname | D6: First name | G6: Side ▾ | H6: Group ▾ | I6: Child? ▾ | L6: Household | N6: Invited to ▾ | Q6: Save the date ▾ | S6: Invitation sent ▾ | U6: RSVP ▾ | V6: Day-after brunch ▾ | X6: Diet / allergy ▾ | Z6: Table no. ▾ | AA6: Staying ▾ | AC6: Coach ▾ | AD6: Phone | AE6: Email | AF6: Postal address | AG6: Notes
B7: =IF(AI7="","",COUNT($AI$7:AI7)) | AI7: =IF(INDEX($C:$C,7)&INDEX($D:$D,7)="","",1) | AJ7: =IF(OR(AI7="",INDEX($Z:$Z,7)="",INDEX($U:$U,7)="Declined"),"",1) | AK7: =IF(AJ7="","",INDEX($Z:$Z,7)&"-"&COUNTIFS($Z$7:Z7,INDEX($Z:$Z,7),$AJ$7:AJ7,1)) | AL7: =IF(AI7="","",TRIM(INDEX($D:$D,7)&" "&INDEX($C:$C,7))&IF(INDEX($I:$I,7)="Yes"," (child)","")) | AM7: =IF(OR(AI7="",INDEX($X:$X,7)="",INDEX($U:$U,7)="Declined"),"",COUNTIFS($X$7:X7,"?*",$U$7:U7,"<>Declined",$AI$7:AI7,1)) | AN7: =IF(AI7="","",IF(INDEX($L:$L,7)="",1,IF(COUNTIF($L$7:L7,INDEX($L:$L,7))=1,1,""))) | AO7: =IF(AN7<>1,"",IF(INDEX($L:$L,7)="",IF(INDEX($S:$S,7)="Yes",1,""),IF(COUNTIFS($L$7:$L$506,INDEX($L:$L,7),$S$7:$S$506,"Yes")>0,1,""))) | AP7: =IF(AN7<>1,"",IF(INDEX($L:$L,7)<>"",INDEX($L:$L,7),TRIM(INDEX($D:$D,7)&" "&INDEX($C:$C,7)))) | AQ7: =IF(OR(AI7="",INDEX($I:$I,7)="Yes"),"",1)
B8: =IF(AI8="","",COUNT($AI$7:AI8)) | AI8: =IF(INDEX($C:$C,8)&INDEX($D:$D,8)="","",1) | AJ8: =IF(OR(AI8="",INDEX($Z:$Z,8)="",INDEX($U:$U,8)="Declined"),"",1) | AK8: =IF(AJ8="","",INDEX($Z:$Z,8)&"-"&COUNTIFS($Z$7:Z8,INDEX($Z:$Z,8),$AJ$7:AJ8,1)) | AL8: =IF(AI8="","",TRIM(INDEX($D:$D,8)&" "&INDEX($C:$C,8))&IF(INDEX($I:$I,8)="Yes"," (child)","")) | AM8: =IF(OR(AI8="",INDEX($X:$X,8)="",INDEX($U:$U,8)="Declined"),"",COUNTIFS($X$7:X8,"?*",$U$7:U8,"<>Declined",$AI$7:AI8,1)) | AN8: =IF(AI8="","",IF(INDEX($L:$L,8)="",1,IF(COUNTIF($L$7:L8,INDEX($L:$L,8))=1,1,""))) | AO8: =IF(AN8<>1,"",IF(INDEX($L:$L,8)="",IF(INDEX($S:$S,8)="Yes",1,""),IF(COUNTIFS($L$7:$L$506,INDEX($L:$L,8),$S$7:$S$506,"Yes")>0,1,""))) | AP8: =IF(AN8<>1,"",IF(INDEX($L:$L,8)<>"",INDEX($L:$L,8),TRIM(INDEX($D:$D,8)&" "&INDEX($C:$C,8)))) | AQ8: =IF(OR(AI8="",INDEX($I:$I,8)="Yes"),"",1)
B9: =IF(AI9="","",COUNT($AI$7:AI9)) | AI9: =IF(INDEX($C:$C,9)&INDEX($D:$D,9)="","",1) | AJ9: =IF(OR(AI9="",INDEX($Z:$Z,9)="",INDEX($U:$U,9)="Declined"),"",1) | AK9: =IF(AJ9="","",INDEX($Z:$Z,9)&"-"&COUNTIFS($Z$7:Z9,INDEX($Z:$Z,9),$AJ$7:AJ9,1)) | AL9: =IF(AI9="","",TRIM(INDEX($D:$D,9)&" "&INDEX($C:$C,9))&IF(INDEX($I:$I,9)="Yes"," (child)","")) | AM9: =IF(OR(AI9="",INDEX($X:$X,9)="",INDEX($U:$U,9)="Declined"),"",COUNTIFS($X$7:X9,"?*",$U$7:U9,"<>Declined",$AI$7:AI9,1)) | AN9: =IF(AI9="","",IF(INDEX($L:$L,9)="",1,IF(COUNTIF($L$7:L9,INDEX($L:$L,9))=1,1,""))) | AO9: =IF(AN9<>1,"",IF(INDEX($L:$L,9)="",IF(INDEX($S:$S,9)="Yes",1,""),IF(COUNTIFS($L$7:$L$506,INDEX($L:$L,9),$S$7:$S$506,"Yes")>0,1,""))) | AP9: =IF(AN9<>1,"",IF(INDEX($L:$L,9)<>"",INDEX($L:$L,9),TRIM(INDEX($D:$D,9)&" "&INDEX($C:$C,9)))) | AQ9: =IF(OR(AI9="",INDEX($I:$I,9)="Yes"),"",1)
B10: =IF(AI10="","",COUNT($AI$7:AI10)) | AI10: =IF(INDEX($C:$C,10)&INDEX($D:$D,10)="","",1) | AJ10: =IF(OR(AI10="",INDEX($Z:$Z,10)="",INDEX($U:$U,10)="Declined"),"",1) | AK10: =IF(AJ10="","",INDEX($Z:$Z,10)&"-"&COUNTIFS($Z$7:Z10,INDEX($Z:$Z,10),$AJ$7:AJ10,1)) | AL10: =IF(AI10="","",TRIM(INDEX($D:$D,10)&" "&INDEX($C:$C,10))&IF(INDEX($I:$I,10)="Yes"," (child)","")) | AM10: =IF(OR(AI10="",INDEX($X:$X,10)="",INDEX($U:$U,10)="Declined"),"",COUNTIFS($X$7:X10,"?*",$U$7:U10,"<>Declined",$AI$7:AI10,1)) | AN10: =IF(AI10="","",IF(INDEX($L:$L,10)="",1,IF(COUNTIF($L$7:L10,INDEX($L:$L,10))=1,1,""))) | AO10: =IF(AN10<>1,"",IF(INDEX($L:$L,10)="",IF(INDEX($S:$S,10)="Yes",1,""),IF(COUNTIFS($L$7:$L$506,INDEX($L:$L,10),$S$7:$S$506,"Yes")>0,1,""))) | AP10: =IF(AN10<>1,"",IF(INDEX($L:$L,10)<>"",INDEX($L:$L,10),TRIM(INDEX($D:$D,10)&" "&INDEX($C:$C,10)))) | AQ10: =IF(OR(AI10="",INDEX($I:$I,10)="Yes"),"",1)
B11: =IF(AI11="","",COUNT($AI$7:AI11)) | AI11: =IF(INDEX($C:$C,11)&INDEX($D:$D,11)="","",1) | AJ11: =IF(OR(AI11="",INDEX($Z:$Z,11)="",INDEX($U:$U,11)="Declined"),"",1) | AK11: =IF(AJ11="","",INDEX($Z:$Z,11)&"-"&COUNTIFS($Z$7:Z11,INDEX($Z:$Z,11),$AJ$7:AJ11,1)) | AL11: =IF(AI11="","",TRIM(INDEX($D:$D,11)&" "&INDEX($C:$C,11))&IF(INDEX($I:$I,11)="Yes"," (child)","")) | AM11: =IF(OR(AI11="",INDEX($X:$X,11)="",INDEX($U:$U,11)="Declined"),"",COUNTIFS($X$7:X11,"?*",$U$7:U11,"<>Declined",$AI$7:AI11,1)) | AN11: =IF(AI11="","",IF(INDEX($L:$L,11)="",1,IF(COUNTIF($L$7:L11,INDEX($L:$L,11))=1,1,""))) | AO11: =IF(AN11<>1,"",IF(INDEX($L:$L,11)="",IF(INDEX($S:$S,11)="Yes",1,""),IF(COUNTIFS($L$7:$L$506,INDEX($L:$L,11),$S$7:$S$506,"Yes")>0,1,""))) | AP11: =IF(AN11<>1,"",IF(INDEX($L:$L,11)<>"",INDEX($L:$L,11),TRIM(INDEX($D:$D,11)&" "&INDEX($C:$C,11)))) | AQ11: =IF(OR(AI11="",INDEX($I:$I,11)="Yes"),"",1)
B12: =IF(AI12="","",COUNT($AI$7:AI12)) | AI12: =IF(INDEX($C:$C,12)&INDEX($D:$D,12)="","",1) | AJ12: =IF(OR(AI12="",INDEX($Z:$Z,12)="",INDEX($U:$U,12)="Declined"),"",1) | AK12: =IF(AJ12="","",INDEX($Z:$Z,12)&"-"&COUNTIFS($Z$7:Z12,INDEX($Z:$Z,12),$AJ$7:AJ12,1)) | AL12: =IF(AI12="","",TRIM(INDEX($D:$D,12)&" "&INDEX($C:$C,12))&IF(INDEX($I:$I,12)="Yes"," (child)","")) | AM12: =IF(OR(AI12="",INDEX($X:$X,12)="",INDEX($U:$U,12)="Declined"),"",COUNTIFS($X$7:X12,"?*",$U$7:U12,"<>Declined",$AI$7:AI12,1)) | AN12: =IF(AI12="","",IF(INDEX($L:$L,12)="",1,IF(COUNTIF($L$7:L12,INDEX($L:$L,12))=1,1,""))) | AO12: =IF(AN12<>1,"",IF(INDEX($L:$L,12)="",IF(INDEX($S:$S,12)="Yes",1,""),IF(COUNTIFS($L$7:$L$506,INDEX($L:$L,12),$S$7:$S$506,"Yes")>0,1,""))) | AP12: =IF(AN12<>1,"",IF(INDEX($L:$L,12)<>"",INDEX($L:$L,12),TRIM(INDEX($D:$D,12)&" "&INDEX($C:$C,12)))) | AQ12: =IF(OR(AI12="",INDEX($I:$I,12)="Yes"),"",1)
B13: =IF(AI13="","",COUNT($AI$7:AI13)) | AI13: =IF(INDEX($C:$C,13)&INDEX($D:$D,13)="","",1) | AJ13: =IF(OR(AI13="",INDEX($Z:$Z,13)="",INDEX($U:$U,13)="Declined"),"",1) | AK13: =IF(AJ13="","",INDEX($Z:$Z,13)&"-"&COUNTIFS($Z$7:Z13,INDEX($Z:$Z,13),$AJ$7:AJ13,1)) | AL13: =IF(AI13="","",TRIM(INDEX($D:$D,13)&" "&INDEX($C:$C,13))&IF(INDEX($I:$I,13)="Yes"," (child)","")) | AM13: =IF(OR(AI13="",INDEX($X:$X,13)="",INDEX($U:$U,13)="Declined"),"",COUNTIFS($X$7:X13,"?*",$U$7:U13,"<>Declined",$AI$7:AI13,1)) | AN13: =IF(AI13="","",IF(INDEX($L:$L,13)="",1,IF(COUNTIF($L$7:L13,INDEX($L:$L,13))=1,1,""))) | AO13: =IF(AN13<>1,"",IF(INDEX($L:$L,13)="",IF(INDEX($S:$S,13)="Yes",1,""),IF(COUNTIFS($L$7:$L$506,INDEX($L:$L,13),$S$7:$S$506,"Yes")>0,1,""))) | AP13: =IF(AN13<>1,"",IF(INDEX($L:$L,13)<>"",INDEX($L:$L,13),TRIM(INDEX($D:$D,13)&" "&INDEX($C:$C,13)))) | AQ13: =IF(OR(AI13="",INDEX($I:$I,13)="Yes"),"",1)
B14: =IF(AI14="","",COUNT($AI$7:AI14)) | AI14: =IF(INDEX($C:$C,14)&INDEX($D:$D,14)="","",1) | AJ14: =IF(OR(AI14="",INDEX($Z:$Z,14)="",INDEX($U:$U,14)="Declined"),"",1) | AK14: =IF(AJ14="","",INDEX($Z:$Z,14)&"-"&COUNTIFS($Z$7:Z14,INDEX($Z:$Z,14),$AJ$7:AJ14,1)) | AL14: =IF(AI14="","",TRIM(INDEX($D:$D,14)&" "&INDEX($C:$C,14))&IF(INDEX($I:$I,14)="Yes"," (child)","")) | AM14: =IF(OR(AI14="",INDEX($X:$X,14)="",INDEX($U:$U,14)="Declined"),"",COUNTIFS($X$7:X14,"?*",$U$7:U14,"<>Declined",$AI$7:AI14,1)) | AN14: =IF(AI14="","",IF(INDEX($L:$L,14)="",1,IF(COUNTIF($L$7:L14,INDEX($L:$L,14))=1,1,""))) | AO14: =IF(AN14<>1,"",IF(INDEX($L:$L,14)="",IF(INDEX($S:$S,14)="Yes",1,""),IF(COUNTIFS($L$7:$L$506,INDEX($L:$L,14),$S$7:$S$506,"Yes")>0,1,""))) | AP14: =IF(AN14<>1,"",IF(INDEX($L:$L,14)<>"",INDEX($L:$L,14),TRIM(INDEX($D:$D,14)&" "&INDEX($C:$C,14)))) | AQ14: =IF(OR(AI14="",INDEX($I:$I,14)="Yes"),"",1)
B15: =IF(AI15="","",COUNT($AI$7:AI15)) | AI15: =IF(INDEX($C:$C,15)&INDEX($D:$D,15)="","",1) | AJ15: =IF(OR(AI15="",INDEX($Z:$Z,15)="",INDEX($U:$U,15)="Declined"),"",1) | AK15: =IF(AJ15="","",INDEX($Z:$Z,15)&"-"&COUNTIFS($Z$7:Z15,INDEX($Z:$Z,15),$AJ$7:AJ15,1)) | AL15: =IF(AI15="","",TRIM(INDEX($D:$D,15)&" "&INDEX($C:$C,15))&IF(INDEX($I:$I,15)="Yes"," (child)","")) | AM15: =IF(OR(AI15="",INDEX($X:$X,15)="",INDEX($U:$U,15)="Declined"),"",COUNTIFS($X$7:X15,"?*",$U$7:U15,"<>Declined",$AI$7:AI15,1)) | AN15: =IF(AI15="","",IF(INDEX($L:$L,15)="",1,IF(COUNTIF($L$7:L15,INDEX($L:$L,15))=1,1,""))) | AO15: =IF(AN15<>1,"",IF(INDEX($L:$L,15)="",IF(INDEX($S:$S,15)="Yes",1,""),IF(COUNTIFS($L$7:$L$506,INDEX($L:$L,15),$S$7:$S$506,"Yes")>0,1,""))) | AP15: =IF(AN15<>1,"",IF(INDEX($L:$L,15)<>"",INDEX($L:$L,15),TRIM(INDEX($D:$D,15)&" "&INDEX($C:$C,15)))) | AQ15: =IF(OR(AI15="",INDEX($I:$I,15)="Yes"),"",1)
B16: =IF(AI16="","",COUNT($AI$7:AI16)) | AI16: =IF(INDEX($C:$C,16)&INDEX($D:$D,16)="","",1) | AJ16: =IF(OR(AI16="",INDEX($Z:$Z,16)="",INDEX($U:$U,16)="Declined"),"",1) | AK16: =IF(AJ16="","",INDEX($Z:$Z,16)&"-"&COUNTIFS($Z$7:Z16,INDEX($Z:$Z,16),$AJ$7:AJ16,1)) | AL16: =IF(AI16="","",TRIM(INDEX($D:$D,16)&" "&INDEX($C:$C,16))&IF(INDEX($I:$I,16)="Yes"," (child)","")) | AM16: =IF(OR(AI16="",INDEX($X:$X,16)="",INDEX($U:$U,16)="Declined"),"",COUNTIFS($X$7:X16,"?*",$U$7:U16,"<>Declined",$AI$7:AI16,1)) | AN16: =IF(AI16="","",IF(INDEX($L:$L,16)="",1,IF(COUNTIF($L$7:L16,INDEX($L:$L,16))=1,1,""))) | AO16: =IF(AN16<>1,"",IF(INDEX($L:$L,16)="",IF(INDEX($S:$S,16)="Yes",1,""),IF(COUNTIFS($L$7:$L$506,INDEX($L:$L,16),$S$7:$S$506,"Yes")>0,1,""))) | AP16: =IF(AN16<>1,"",IF(INDEX($L:$L,16)<>"",INDEX($L:$L,16),TRIM(INDEX($D:$D,16)&" "&INDEX($C:$C,16)))) | AQ16: =IF(OR(AI16="",INDEX($I:$I,16)="Yes"),"",1)
B17: =IF(AI17="","",COUNT($AI$7:AI17)) | AI17: =IF(INDEX($C:$C,17)&INDEX($D:$D,17)="","",1) | AJ17: =IF(OR(AI17="",INDEX($Z:$Z,17)="",INDEX($U:$U,17)="Declined"),"",1) | AK17: =IF(AJ17="","",INDEX($Z:$Z,17)&"-"&COUNTIFS($Z$7:Z17,INDEX($Z:$Z,17),$AJ$7:AJ17,1)) | AL17: =IF(AI17="","",TRIM(INDEX($D:$D,17)&" "&INDEX($C:$C,17))&IF(INDEX($I:$I,17)="Yes"," (child)","")) | AM17: =IF(OR(AI17="",INDEX($X:$X,17)="",INDEX($U:$U,17)="Declined"),"",COUNTIFS($X$7:X17,"?*",$U$7:U17,"<>Declined",$AI$7:AI17,1)) | AN17: =IF(AI17="","",IF(INDEX($L:$L,17)="",1,IF(COUNTIF($L$7:L17,INDEX($L:$L,17))=1,1,""))) | AO17: =IF(AN17<>1,"",IF(INDEX($L:$L,17)="",IF(INDEX($S:$S,17)="Yes",1,""),IF(COUNTIFS($L$7:$L$506,INDEX($L:$L,17),$S$7:$S$506,"Yes")>0,1,""))) | AP17: =IF(AN17<>1,"",IF(INDEX($L:$L,17)<>"",INDEX($L:$L,17),TRIM(INDEX($D:$D,17)&" "&INDEX($C:$C,17)))) | AQ17: =IF(OR(AI17="",INDEX($I:$I,17)="Yes"),"",1)
B18: =IF(AI18="","",COUNT($AI$7:AI18)) | AI18: =IF(INDEX($C:$C,18)&INDEX($D:$D,18)="","",1) | AJ18: =IF(OR(AI18="",INDEX($Z:$Z,18)="",INDEX($U:$U,18)="Declined"),"",1) | AK18: =IF(AJ18="","",INDEX($Z:$Z,18)&"-"&COUNTIFS($Z$7:Z18,INDEX($Z:$Z,18),$AJ$7:AJ18,1)) | AL18: =IF(AI18="","",TRIM(INDEX($D:$D,18)&" "&INDEX($C:$C,18))&IF(INDEX($I:$I,18)="Yes"," (child)","")) | AM18: =IF(OR(AI18="",INDEX($X:$X,18)="",INDEX($U:$U,18)="Declined"),"",COUNTIFS($X$7:X18,"?*",$U$7:U18,"<>Declined",$AI$7:AI18,1)) | AN18: =IF(AI18="","",IF(INDEX($L:$L,18)="",1,IF(COUNTIF($L$7:L18,INDEX($L:$L,18))=1,1,""))) | AO18: =IF(AN18<>1,"",IF(INDEX($L:$L,18)="",IF(INDEX($S:$S,18)="Yes",1,""),IF(COUNTIFS($L$7:$L$506,INDEX($L:$L,18),$S$7:$S$506,"Yes")>0,1,""))) | AP18: =IF(AN18<>1,"",IF(INDEX($L:$L,18)<>"",INDEX($L:$L,18),TRIM(INDEX($D:$D,18)&" "&INDEX($C:$C,18)))) | AQ18: =IF(OR(AI18="",INDEX($I:$I,18)="Yes"),"",1)
B19: =IF(AI19="","",COUNT($AI$7:AI19)) | AI19: =IF(INDEX($C:$C,19)&INDEX($D:$D,19)="","",1) | AJ19: =IF(OR(AI19="",INDEX($Z:$Z,19)="",INDEX($U:$U,19)="Declined"),"",1) | AK19: =IF(AJ19="","",INDEX($Z:$Z,19)&"-"&COUNTIFS($Z$7:Z19,INDEX($Z:$Z,19),$AJ$7:AJ19,1)) | AL19: =IF(AI19="","",TRIM(INDEX($D:$D,19)&" "&INDEX($C:$C,19))&IF(INDEX($I:$I,19)="Yes"," (child)","")) | AM19: =IF(OR(AI19="",INDEX($X:$X,19)="",INDEX($U:$U,19)="Declined"),"",COUNTIFS($X$7:X19,"?*",$U$7:U19,"<>Declined",$AI$7:AI19,1)) | AN19: =IF(AI19="","",IF(INDEX($L:$L,19)="",1,IF(COUNTIF($L$7:L19,INDEX($L:$L,19))=1,1,""))) | AO19: =IF(AN19<>1,"",IF(INDEX($L:$L,19)="",IF(INDEX($S:$S,19)="Yes",1,""),IF(COUNTIFS($L$7:$L$506,INDEX($L:$L,19),$S$7:$S$506,"Yes")>0,1,""))) | AP19: =IF(AN19<>1,"",IF(INDEX($L:$L,19)<>"",INDEX($L:$L,19),TRIM(INDEX($D:$D,19)&" "&INDEX($C:$C,19)))) | AQ19: =IF(OR(AI19="",INDEX($I:$I,19)="Yes"),"",1)
B20: =IF(AI20="","",COUNT($AI$7:AI20)) | AI20: =IF(INDEX($C:$C,20)&INDEX($D:$D,20)="","",1) | AJ20: =IF(OR(AI20="",INDEX($Z:$Z,20)="",INDEX($U:$U,20)="Declined"),"",1) | AK20: =IF(AJ20="","",INDEX($Z:$Z,20)&"-"&COUNTIFS($Z$7:Z20,INDEX($Z:$Z,20),$AJ$7:AJ20,1)) | AL20: =IF(AI20="","",TRIM(INDEX($D:$D,20)&" "&INDEX($C:$C,20))&IF(INDEX($I:$I,20)="Yes"," (child)","")) | AM20: =IF(OR(AI20="",INDEX($X:$X,20)="",INDEX($U:$U,20)="Declined"),"",COUNTIFS($X$7:X20,"?*",$U$7:U20,"<>Declined",$AI$7:AI20,1)) | AN20: =IF(AI20="","",IF(INDEX($L:$L,20)="",1,IF(COUNTIF($L$7:L20,INDEX($L:$L,20))=1,1,""))) | AO20: =IF(AN20<>1,"",IF(INDEX($L:$L,20)="",IF(INDEX($S:$S,20)="Yes",1,""),IF(COUNTIFS($L$7:$L$506,INDEX($L:$L,20),$S$7:$S$506,"Yes")>0,1,""))) | AP20: =IF(AN20<>1,"",IF(INDEX($L:$L,20)<>"",INDEX($L:$L,20),TRIM(INDEX($D:$D,20)&" "&INDEX($C:$C,20)))) | AQ20: =IF(OR(AI20="",INDEX($I:$I,20)="Yes"),"",1)
B21: =IF(AI21="","",COUNT($AI$7:AI21)) | AI21: =IF(INDEX($C:$C,21)&INDEX($D:$D,21)="","",1) | AJ21: =IF(OR(AI21="",INDEX($Z:$Z,21)="",INDEX($U:$U,21)="Declined"),"",1) | AK21: =IF(AJ21="","",INDEX($Z:$Z,21)&"-"&COUNTIFS($Z$7:Z21,INDEX($Z:$Z,21),$AJ$7:AJ21,1)) | AL21: =IF(AI21="","",TRIM(INDEX($D:$D,21)&" "&INDEX($C:$C,21))&IF(INDEX($I:$I,21)="Yes"," (child)","")) | AM21: =IF(OR(AI21="",INDEX($X:$X,21)="",INDEX($U:$U,21)="Declined"),"",COUNTIFS($X$7:X21,"?*",$U$7:U21,"<>Declined",$AI$7:AI21,1)) | AN21: =IF(AI21="","",IF(INDEX($L:$L,21)="",1,IF(COUNTIF($L$7:L21,INDEX($L:$L,21))=1,1,""))) | AO21: =IF(AN21<>1,"",IF(INDEX($L:$L,21)="",IF(INDEX($S:$S,21)="Yes",1,""),IF(COUNTIFS($L$7:$L$506,INDEX($L:$L,21),$S$7:$S$506,"Yes")>0,1,""))) | AP21: =IF(AN21<>1,"",IF(INDEX($L:$L,21)<>"",INDEX($L:$L,21),TRIM(INDEX($D:$D,21)&" "&INDEX($C:$C,21)))) | AQ21: =IF(OR(AI21="",INDEX($I:$I,21)="Yes"),"",1)
B22: =IF(AI22="","",COUNT($AI$7:AI22)) | AI22: =IF(INDEX($C:$C,22)&INDEX($D:$D,22)="","",1) | AJ22: =IF(OR(AI22="",INDEX($Z:$Z,22)="",INDEX($U:$U,22)="Declined"),"",1) | AK22: =IF(AJ22="","",INDEX($Z:$Z,22)&"-"&COUNTIFS($Z$7:Z22,INDEX($Z:$Z,22),$AJ$7:AJ22,1)) | AL22: =IF(AI22="","",TRIM(INDEX($D:$D,22)&" "&INDEX($C:$C,22))&IF(INDEX($I:$I,22)="Yes"," (child)","")) | AM22: =IF(OR(AI22="",INDEX($X:$X,22)="",INDEX($U:$U,22)="Declined"),"",COUNTIFS($X$7:X22,"?*",$U$7:U22,"<>Declined",$AI$7:AI22,1)) | AN22: =IF(AI22="","",IF(INDEX($L:$L,22)="",1,IF(COUNTIF($L$7:L22,INDEX($L:$L,22))=1,1,""))) | AO22: =IF(AN22<>1,"",IF(INDEX($L:$L,22)="",IF(INDEX($S:$S,22)="Yes",1,""),IF(COUNTIFS($L$7:$L$506,INDEX($L:$L,22),$S$7:$S$506,"Yes")>0,1,""))) | AP22: =IF(AN22<>1,"",IF(INDEX($L:$L,22)<>"",INDEX($L:$L,22),TRIM(INDEX($D:$D,22)&" "&INDEX($C:$C,22)))) | AQ22: =IF(OR(AI22="",INDEX($I:$I,22)="Yes"),"",1)
B23: =IF(AI23="","",COUNT($AI$7:AI23)) | AI23: =IF(INDEX($C:$C,23)&INDEX($D:$D,23)="","",1) | AJ23: =IF(OR(AI23="",INDEX($Z:$Z,23)="",INDEX($U:$U,23)="Declined"),"",1) | AK23: =IF(AJ23="","",INDEX($Z:$Z,23)&"-"&COUNTIFS($Z$7:Z23,INDEX($Z:$Z,23),$AJ$7:AJ23,1)) | AL23: =IF(AI23="","",TRIM(INDEX($D:$D,23)&" "&INDEX($C:$C,23))&IF(INDEX($I:$I,23)="Yes"," (child)","")) | AM23: =IF(OR(AI23="",INDEX($X:$X,23)="",INDEX($U:$U,23)="Declined"),"",COUNTIFS($X$7:X23,"?*",$U$7:U23,"<>Declined",$AI$7:AI23,1)) | AN23: =IF(AI23="","",IF(INDEX($L:$L,23)="",1,IF(COUNTIF($L$7:L23,INDEX($L:$L,23))=1,1,""))) | AO23: =IF(AN23<>1,"",IF(INDEX($L:$L,23)="",IF(INDEX($S:$S,23)="Yes",1,""),IF(COUNTIFS($L$7:$L$506,INDEX($L:$L,23),$S$7:$S$506,"Yes")>0,1,""))) | AP23: =IF(AN23<>1,"",IF(INDEX($L:$L,23)<>"",INDEX($L:$L,23),TRIM(INDEX($D:$D,23)&" "&INDEX($C:$C,23)))) | AQ23: =IF(OR(AI23="",INDEX($I:$I,23)="Yes"),"",1)
B24: =IF(AI24="","",COUNT($AI$7:AI24)) | AI24: =IF(INDEX($C:$C,24)&INDEX($D:$D,24)="","",1) | AJ24: =IF(OR(AI24="",INDEX($Z:$Z,24)="",INDEX($U:$U,24)="Declined"),"",1) | AK24: =IF(AJ24="","",INDEX($Z:$Z,24)&"-"&COUNTIFS($Z$7:Z24,INDEX($Z:$Z,24),$AJ$7:AJ24,1)) | AL24: =IF(AI24="","",TRIM(INDEX($D:$D,24)&" "&INDEX($C:$C,24))&IF(INDEX($I:$I,24)="Yes"," (child)","")) | AM24: =IF(OR(AI24="",INDEX($X:$X,24)="",INDEX($U:$U,24)="Declined"),"",COUNTIFS($X$7:X24,"?*",$U$7:U24,"<>Declined",$AI$7:AI24,1)) | AN24: =IF(AI24="","",IF(INDEX($L:$L,24)="",1,IF(COUNTIF($L$7:L24,INDEX($L:$L,24))=1,1,""))) | AO24: =IF(AN24<>1,"",IF(INDEX($L:$L,24)="",IF(INDEX($S:$S,24)="Yes",1,""),IF(COUNTIFS($L$7:$L$506,INDEX($L:$L,24),$S$7:$S$506,"Yes")>0,1,""))) | AP24: =IF(AN24<>1,"",IF(INDEX($L:$L,24)<>"",INDEX($L:$L,24),TRIM(INDEX($D:$D,24)&" "&INDEX($C:$C,24)))) | AQ24: =IF(OR(AI24="",INDEX($I:$I,24)="Yes"),"",1)
B25: =IF(AI25="","",COUNT($AI$7:AI25)) | AI25: =IF(INDEX($C:$C,25)&INDEX($D:$D,25)="","",1) | AJ25: =IF(OR(AI25="",INDEX($Z:$Z,25)="",INDEX($U:$U,25)="Declined"),"",1) | AK25: =IF(AJ25="","",INDEX($Z:$Z,25)&"-"&COUNTIFS($Z$7:Z25,INDEX($Z:$Z,25),$AJ$7:AJ25,1)) | AL25: =IF(AI25="","",TRIM(INDEX($D:$D,25)&" "&INDEX($C:$C,25))&IF(INDEX($I:$I,25)="Yes"," (child)","")) | AM25: =IF(OR(AI25="",INDEX($X:$X,25)="",INDEX($U:$U,25)="Declined"),"",COUNTIFS($X$7:X25,"?*",$U$7:U25,"<>Declined",$AI$7:AI25,1)) | AN25: =IF(AI25="","",IF(INDEX($L:$L,25)="",1,IF(COUNTIF($L$7:L25,INDEX($L:$L,25))=1,1,""))) | AO25: =IF(AN25<>1,"",IF(INDEX($L:$L,25)="",IF(INDEX($S:$S,25)="Yes",1,""),IF(COUNTIFS($L$7:$L$506,INDEX($L:$L,25),$S$7:$S$506,"Yes")>0,1,""))) | AP25: =IF(AN25<>1,"",IF(INDEX($L:$L,25)<>"",INDEX($L:$L,25),TRIM(INDEX($D:$D,25)&" "&INDEX($C:$C,25)))) | AQ25: =IF(OR(AI25="",INDEX($I:$I,25)="Yes"),"",1)
B26: =IF(AI26="","",COUNT($AI$7:AI26)) | AI26: =IF(INDEX($C:$C,26)&INDEX($D:$D,26)="","",1) | AJ26: =IF(OR(AI26="",INDEX($Z:$Z,26)="",INDEX($U:$U,26)="Declined"),"",1) | AK26: =IF(AJ26="","",INDEX($Z:$Z,26)&"-"&COUNTIFS($Z$7:Z26,INDEX($Z:$Z,26),$AJ$7:AJ26,1)) | AL26: =IF(AI26="","",TRIM(INDEX($D:$D,26)&" "&INDEX($C:$C,26))&IF(INDEX($I:$I,26)="Yes"," (child)","")) | AM26: =IF(OR(AI26="",INDEX($X:$X,26)="",INDEX($U:$U,26)="Declined"),"",COUNTIFS($X$7:X26,"?*",$U$7:U26,"<>Declined",$AI$7:AI26,1)) | AN26: =IF(AI26="","",IF(INDEX($L:$L,26)="",1,IF(COUNTIF($L$7:L26,INDEX($L:$L,26))=1,1,""))) | AO26: =IF(AN26<>1,"",IF(INDEX($L:$L,26)="",IF(INDEX($S:$S,26)="Yes",1,""),IF(COUNTIFS($L$7:$L$506,INDEX($L:$L,26),$S$7:$S$506,"Yes")>0,1,""))) | AP26: =IF(AN26<>1,"",IF(INDEX($L:$L,26)<>"",INDEX($L:$L,26),TRIM(INDEX($D:$D,26)&" "&INDEX($C:$C,26)))) | AQ26: =IF(OR(AI26="",INDEX($I:$I,26)="Yes"),"",1)
B27: =IF(AI27="","",COUNT($AI$7:AI27)) | AI27: =IF(INDEX($C:$C,27)&INDEX($D:$D,27)="","",1) | AJ27: =IF(OR(AI27="",INDEX($Z:$Z,27)="",INDEX($U:$U,27)="Declined"),"",1) | AK27: =IF(AJ27="","",INDEX($Z:$Z,27)&"-"&COUNTIFS($Z$7:Z27,INDEX($Z:$Z,27),$AJ$7:AJ27,1)) | AL27: =IF(AI27="","",TRIM(INDEX($D:$D,27)&" "&INDEX($C:$C,27))&IF(INDEX($I:$I,27)="Yes"," (child)","")) | AM27: =IF(OR(AI27="",INDEX($X:$X,27)="",INDEX($U:$U,27)="Declined"),"",COUNTIFS($X$7:X27,"?*",$U$7:U27,"<>Declined",$AI$7:AI27,1)) | AN27: =IF(AI27="","",IF(INDEX($L:$L,27)="",1,IF(COUNTIF($L$7:L27,INDEX($L:$L,27))=1,1,""))) | AO27: =IF(AN27<>1,"",IF(INDEX($L:$L,27)="",IF(INDEX($S:$S,27)="Yes",1,""),IF(COUNTIFS($L$7:$L$506,INDEX($L:$L,27),$S$7:$S$506,"Yes")>0,1,""))) | AP27: =IF(AN27<>1,"",IF(INDEX($L:$L,27)<>"",INDEX($L:$L,27),TRIM(INDEX($D:$D,27)&" "&INDEX($C:$C,27)))) | AQ27: =IF(OR(AI27="",INDEX($I:$I,27)="Yes"),"",1)
B28: =IF(AI28="","",COUNT($AI$7:AI28)) | AI28: =IF(INDEX($C:$C,28)&INDEX($D:$D,28)="","",1) | AJ28: =IF(OR(AI28="",INDEX($Z:$Z,28)="",INDEX($U:$U,28)="Declined"),"",1) | AK28: =IF(AJ28="","",INDEX($Z:$Z,28)&"-"&COUNTIFS($Z$7:Z28,INDEX($Z:$Z,28),$AJ$7:AJ28,1)) | AL28: =IF(AI28="","",TRIM(INDEX($D:$D,28)&" "&INDEX($C:$C,28))&IF(INDEX($I:$I,28)="Yes"," (child)","")) | AM28: =IF(OR(AI28="",INDEX($X:$X,28)="",INDEX($U:$U,28)="Declined"),"",COUNTIFS($X$7:X28,"?*",$U$7:U28,"<>Declined",$AI$7:AI28,1)) | AN28: =IF(AI28="","",IF(INDEX($L:$L,28)="",1,IF(COUNTIF($L$7:L28,INDEX($L:$L,28))=1,1,""))) | AO28: =IF(AN28<>1,"",IF(INDEX($L:$L,28)="",IF(INDEX($S:$S,28)="Yes",1,""),IF(COUNTIFS($L$7:$L$506,INDEX($L:$L,28),$S$7:$S$506,"Yes")>0,1,""))) | AP28: =IF(AN28<>1,"",IF(INDEX($L:$L,28)<>"",INDEX($L:$L,28),TRIM(INDEX($D:$D,28)&" "&INDEX($C:$C,28)))) | AQ28: =IF(OR(AI28="",INDEX($I:$I,28)="Yes"),"",1)
